BEGIN:VCALENDAR
VERSION:2.0
PRODID:-//Alabama Republican Party - ECPv5.8.2//NONSGML v1.0//EN
CALSCALE:GREGORIAN
METHOD:PUBLISH
X-WR-CALNAME:Alabama Republican Party
X-ORIGINAL-URL:https://algop.org
X-WR-CALDESC:Events for Alabama Republican Party
BEGIN:VTIMEZONE
TZID:America/Chicago
BEGIN:DAYLIGHT
TZOFFSETFROM:-0600
TZOFFSETTO:-0500
TZNAME:CDT
DTSTART:20170312T080000
END:DAYLIGHT
BEGIN:STANDARD
TZOFFSETFROM:-0500
TZOFFSETTO:-0600
TZNAME:CST
DTSTART:20171105T070000
END:STANDARD
END:VTIMEZONE
BEGIN:VEVENT
DTSTART;TZID=America/Chicago:20171016T180000
DTEND;TZID=America/Chicago:20171016T200000
DTSTAMP:20260423T043524
CREATED:20170330T161413Z
LAST-MODIFIED:20170330T161413Z
UID:16480-1508176800-1508184000@algop.org
SUMMARY:Escambia County GOP - October Meeting
DESCRIPTION:
URL:https://algop.org/event/escambia-county-gop-october-meeting/
LOCATION:Acapulco’s Restaurant\, 300 East Church Street\, Atmore\, AL\, 36502\, United States
END:VEVENT
END:VCALENDAR