BEGIN:VCALENDAR
VERSION:2.0
PRODID:-//Alabama Republican Party - ECPv5.8.2//NONSGML v1.0//EN
CALSCALE:GREGORIAN
METHOD:PUBLISH
X-WR-CALNAME:Alabama Republican Party
X-ORIGINAL-URL:https://algop.org
X-WR-CALDESC:Events for Alabama Republican Party
BEGIN:VTIMEZONE
TZID:America/Chicago
BEGIN:DAYLIGHT
TZOFFSETFROM:-0600
TZOFFSETTO:-0500
TZNAME:CDT
DTSTART:20170312T080000
END:DAYLIGHT
BEGIN:STANDARD
TZOFFSETFROM:-0500
TZOFFSETTO:-0600
TZNAME:CST
DTSTART:20171105T070000
END:STANDARD
END:VTIMEZONE
BEGIN:VEVENT
DTSTART;TZID=America/Chicago:20170921T180000
DTEND;TZID=America/Chicago:20170921T200000
DTSTAMP:20260423T025246
CREATED:20170321T161157Z
LAST-MODIFIED:20170919T212125Z
UID:16235-1506016800-1506024000@algop.org
SUMMARY:Autauga County GOP September Meeting
DESCRIPTION:For more information email: autaugagop@gmail.com
URL:https://algop.org/event/autauga-county-gop-september-meeting/
LOCATION:St. Joseph’s Parish\,  511 N. Memorial Dr\, Prattville\, AL\, United States
ATTACH;FMTTYPE=image/jpeg:https://algop.org/wp-content/uploads/2017/05/shutterstock_534947527-e1505856078246.jpg
END:VEVENT
BEGIN:VEVENT
DTSTART;TZID=America/Chicago:20170921T190000
DTEND;TZID=America/Chicago:20170921T200000
DTSTAMP:20260423T025246
CREATED:20170324T181432Z
LAST-MODIFIED:20170324T181432Z
UID:16364-1506020400-1506024000@algop.org
SUMMARY:Bibb County GOP September Meeting
DESCRIPTION:Dinner begins at 6:00 p.m. with the meeting following at 7:00 p.m.
URL:https://algop.org/event/bibb-county-gop-september-meeting/
LOCATION:Sawmeal Restaurant\, 6880 Alabama 5\,  Brent\, AL\, 35034\, United States
END:VEVENT
END:VCALENDAR