BEGIN:VCALENDAR
VERSION:2.0
PRODID:-//Alabama Republican Party - ECPv5.8.2//NONSGML v1.0//EN
CALSCALE:GREGORIAN
METHOD:PUBLISH
X-WR-CALNAME:Alabama Republican Party
X-ORIGINAL-URL:https://algop.org
X-WR-CALDESC:Events for Alabama Republican Party
BEGIN:VTIMEZONE
TZID:America/Chicago
BEGIN:DAYLIGHT
TZOFFSETFROM:-0600
TZOFFSETTO:-0500
TZNAME:CDT
DTSTART:20170312T080000
END:DAYLIGHT
BEGIN:STANDARD
TZOFFSETFROM:-0500
TZOFFSETTO:-0600
TZNAME:CST
DTSTART:20171105T070000
END:STANDARD
TZID:UTC
BEGIN:STANDARD
TZOFFSETFROM:+0000
TZOFFSETTO:+0000
TZNAME:UTC
DTSTART:20170101T000000
END:STANDARD
END:VTIMEZONE
BEGIN:VEVENT
DTSTART;TZID=America/Chicago:20170826T110000
DTEND;TZID=America/Chicago:20170826T110000
DTSTAMP:20260423T011702
CREATED:20170515T202834Z
LAST-MODIFIED:20170515T202834Z
UID:16598-1503745200-1503745200@algop.org
SUMMARY:2017 Summer Luncheon
DESCRIPTION:
URL:https://algop.org/event/2017-summer-luncheon-2/
END:VEVENT
BEGIN:VEVENT
DTSTART;TZID=UTC:20170826T110000
DTEND;TZID=UTC:20170826T130000
DTSTAMP:20260423T011702
CREATED:20170815T092938Z
LAST-MODIFIED:20170815T092938Z
UID:14-1503745200-1503752400@algop.org
SUMMARY:2017 Summer Luncheon
DESCRIPTION:Our theme is “Honoring Alabama Educators”. Join us as we plan a day full of special recognitions and saluting those committed to advancing education in Alabama!
URL:https://algop.org/event/2017-summer-luncheon/
ATTACH;FMTTYPE=image/jpeg:https://algop.org/wp-content/uploads/2017/08/event_2017_summer_luncheon-1.jpg
END:VEVENT
END:VCALENDAR