BEGIN:VCALENDAR
VERSION:2.0
PRODID:-//Alabama Republican Party - ECPv5.8.2//NONSGML v1.0//EN
CALSCALE:GREGORIAN
METHOD:PUBLISH
X-WR-CALNAME:Alabama Republican Party
X-ORIGINAL-URL:https://algop.org
X-WR-CALDESC:Events for Alabama Republican Party
BEGIN:VTIMEZONE
TZID:UTC
BEGIN:STANDARD
TZOFFSETFROM:+0000
TZOFFSETTO:+0000
TZNAME:UTC
DTSTART:20170101T000000
END:STANDARD
END:VTIMEZONE
BEGIN:VEVENT
DTSTART;TZID=UTC:20170822T110000
DTEND;TZID=UTC:20170822T130000
DTSTAMP:20260423T011544
CREATED:20170815T092328Z
LAST-MODIFIED:20170815T221605Z
UID:7-1503399600-1503406800@algop.org
SUMMARY:“Politics and Pork” Picnic & U.S. Senate Candidate Forum
DESCRIPTION:The Baldwin County Republican Party will host a picnic and U.S. Senate Candidate forum at the PZK Center on Highway 104 between Robertsdale and Springhill\, AL.
URL:https://algop.org/event/politics-and-pork-picnic-u-s-senate-candidate-forum/
ATTACH;FMTTYPE=image/jpeg:https://algop.org/wp-content/uploads/2017/08/event_politics_and_pork_picnic-2.jpg
END:VEVENT
END:VCALENDAR