BEGIN:VCALENDAR
VERSION:2.0
PRODID:-//Alabama Republican Party - ECPv5.8.2//NONSGML v1.0//EN
CALSCALE:GREGORIAN
METHOD:PUBLISH
X-WR-CALNAME:Alabama Republican Party
X-ORIGINAL-URL:https://algop.org
X-WR-CALDESC:Events for Alabama Republican Party
BEGIN:VTIMEZONE
TZID:America/Chicago
BEGIN:DAYLIGHT
TZOFFSETFROM:-0600
TZOFFSETTO:-0500
TZNAME:CDT
DTSTART:20170312T080000
END:DAYLIGHT
BEGIN:STANDARD
TZOFFSETFROM:-0500
TZOFFSETTO:-0600
TZNAME:CST
DTSTART:20171105T070000
END:STANDARD
END:VTIMEZONE
BEGIN:VEVENT
DTSTART;TZID=America/Chicago:20170804T180000
DTEND;TZID=America/Chicago:20170804T210000
DTSTAMP:20260423T011647
CREATED:20170724T150506Z
LAST-MODIFIED:20170724T150506Z
UID:16746-1501869600-1501880400@algop.org
SUMMARY:Shelby County GOP U.S. Senate Candidate Forum
DESCRIPTION:Join the Shelby County Republican Party at the Pelham Civic Center on Friday\, August 4 at 6:00 p.m. for a U.S. Senate Candidate Forum. This event is FREE and open to the public.
URL:https://algop.org/event/shelby-county-gop-u-s-senate-candidate-forum/
LOCATION:Pelham Civic Center\, 500 Amphitheater Road\, Pelham\, AL\, 35124\, United States
END:VEVENT
END:VCALENDAR