BEGIN:VCALENDAR
VERSION:2.0
PRODID:-//Alabama Republican Party - ECPv5.8.2//NONSGML v1.0//EN
CALSCALE:GREGORIAN
METHOD:PUBLISH
X-WR-CALNAME:Alabama Republican Party
X-ORIGINAL-URL:https://algop.org
X-WR-CALDESC:Events for Alabama Republican Party
BEGIN:VTIMEZONE
TZID:America/Chicago
BEGIN:DAYLIGHT
TZOFFSETFROM:-0600
TZOFFSETTO:-0500
TZNAME:CDT
DTSTART:20170312T080000
END:DAYLIGHT
BEGIN:STANDARD
TZOFFSETFROM:-0500
TZOFFSETTO:-0600
TZNAME:CST
DTSTART:20171105T070000
END:STANDARD
END:VTIMEZONE
BEGIN:VEVENT
DTSTART;TZID=America/Chicago:20170711T180000
DTEND;TZID=America/Chicago:20170711T200000
DTSTAMP:20260422T233610
CREATED:20170626T205936Z
LAST-MODIFIED:20170626T205936Z
UID:16703-1499796000-1499803200@algop.org
SUMMARY:Randolph County GOP July Meeting
DESCRIPTION:Dinner begins at 6:00 p.m. with the meeting following at 7:00 p.m.
URL:https://algop.org/event/randolph-county-gop-july-meeting/
LOCATION:Sunny’s Home Cooking\, 2028 US-431\, Roanoke\, AL\, 36274\, United States
END:VEVENT
END:VCALENDAR