BEGIN:VCALENDAR
VERSION:2.0
PRODID:-//Alabama Republican Party - ECPv5.8.2//NONSGML v1.0//EN
CALSCALE:GREGORIAN
METHOD:PUBLISH
X-WR-CALNAME:Alabama Republican Party
X-ORIGINAL-URL:https://algop.org
X-WR-CALDESC:Events for Alabama Republican Party
BEGIN:VTIMEZONE
TZID:America/Chicago
BEGIN:DAYLIGHT
TZOFFSETFROM:-0600
TZOFFSETTO:-0500
TZNAME:CDT
DTSTART:20170312T080000
END:DAYLIGHT
BEGIN:STANDARD
TZOFFSETFROM:-0500
TZOFFSETTO:-0600
TZNAME:CST
DTSTART:20171105T070000
END:STANDARD
END:VTIMEZONE
BEGIN:VEVENT
DTSTART;TZID=America/Chicago:20170708T080000
DTEND;TZID=America/Chicago:20170708T170000
DTSTAMP:20260422T233456
CREATED:20170705T144140Z
LAST-MODIFIED:20170705T144140Z
UID:16719-1499500800-1499533200@algop.org
SUMMARY:River Region U.S. Senate Candidate Forum
DESCRIPTION:The Montgomery County Republican Executive Committee is sponsoring a U.S. Senate Candidate Forum Saturday\, July 8\, at the Farmer’s Market Café in Montgomery 11:00 a.m. – 2:00 p.m. \nThe Forum will feature Republican candidates running for the U.S. Senate seat currently occupied by Senator Luther Strange. \nThe Farmer’s Market Cafe will provde hot dogs\, chips\, and soft drinks.
URL:https://algop.org/event/river-region-u-s-senate-candidate-forum/
LOCATION:Farmer’s Market Cafe\, 315 N McDonough Street\, Montgomery\, AL\, 36104\, United States
END:VEVENT
END:VCALENDAR