BEGIN:VCALENDAR
VERSION:2.0
PRODID:-//Alabama Republican Party - ECPv5.8.2//NONSGML v1.0//EN
CALSCALE:GREGORIAN
METHOD:PUBLISH
X-WR-CALNAME:Alabama Republican Party
X-ORIGINAL-URL:https://algop.org
X-WR-CALDESC:Events for Alabama Republican Party
BEGIN:VTIMEZONE
TZID:America/Chicago
BEGIN:DAYLIGHT
TZOFFSETFROM:-0600
TZOFFSETTO:-0500
TZNAME:CDT
DTSTART:20170312T080000
END:DAYLIGHT
BEGIN:STANDARD
TZOFFSETFROM:-0500
TZOFFSETTO:-0600
TZNAME:CST
DTSTART:20171105T070000
END:STANDARD
END:VTIMEZONE
BEGIN:VEVENT
DTSTART;TZID=America/Chicago:20170617T130000
DTEND;TZID=America/Chicago:20170617T150000
DTSTAMP:20260422T220455
CREATED:20170616T160306Z
LAST-MODIFIED:20170616T160306Z
UID:16696-1497704400-1497711600@algop.org
SUMMARY:DeKalb County GOP Open House
DESCRIPTION:Join the DeKalb County Republican Party for a Open House at their new 2017-2018 headquarters! \nThe event will be a meet and greet hot dog social.
URL:https://algop.org/event/dekalb-county-gop-open-house/
LOCATION:222 Gault Ave North\, 222 Gault Ave North\, Fort Payne\, Alabama\, 35967
END:VEVENT
END:VCALENDAR