BEGIN:VCALENDAR
VERSION:2.0
PRODID:-//Alabama Republican Party - ECPv5.8.2//NONSGML v1.0//EN
CALSCALE:GREGORIAN
METHOD:PUBLISH
X-WR-CALNAME:Alabama Republican Party
X-ORIGINAL-URL:https://algop.org
X-WR-CALDESC:Events for Alabama Republican Party
BEGIN:VTIMEZONE
TZID:America/Chicago
BEGIN:DAYLIGHT
TZOFFSETFROM:-0600
TZOFFSETTO:-0500
TZNAME:CDT
DTSTART:20170312T080000
END:DAYLIGHT
BEGIN:STANDARD
TZOFFSETFROM:-0500
TZOFFSETTO:-0600
TZNAME:CST
DTSTART:20171105T070000
END:STANDARD
END:VTIMEZONE
BEGIN:VEVENT
DTSTART;TZID=America/Chicago:20170518T180000
DTEND;TZID=America/Chicago:20170518T200000
DTSTAMP:20260422T203413
CREATED:20170321T153823Z
LAST-MODIFIED:20170321T153823Z
UID:16228-1495130400-1495137600@algop.org
SUMMARY:Autauga GOP May Meeting
DESCRIPTION:For more information email autaugagop@gmail.com
URL:https://algop.org/event/autauga-gop-may-meeting/
LOCATION:St. Joseph’s Parish\,  511 N. Memorial Dr\, Prattville\, AL\, United States
END:VEVENT
BEGIN:VEVENT
DTSTART;TZID=America/Chicago:20170518T190000
DTEND;TZID=America/Chicago:20170518T200000
DTSTAMP:20260422T203413
CREATED:20170324T180922Z
LAST-MODIFIED:20170324T180922Z
UID:16356-1495134000-1495137600@algop.org
SUMMARY:Bibb County GOP May Meeting
DESCRIPTION:Dinner begins at 6:00 p.m. with the meeting following at 7:00 p.m.
URL:https://algop.org/event/bibb-county-gop-may-meeting/
LOCATION:Sawmeal Restaurant\, 6880 Alabama 5\,  Brent\, AL\, 35034\, United States
END:VEVENT
END:VCALENDAR