BEGIN:VCALENDAR
VERSION:2.0
PRODID:-//Alabama Republican Party - ECPv5.8.2//NONSGML v1.0//EN
CALSCALE:GREGORIAN
METHOD:PUBLISH
X-WR-CALNAME:Alabama Republican Party
X-ORIGINAL-URL:https://algop.org
X-WR-CALDESC:Events for Alabama Republican Party
BEGIN:VTIMEZONE
TZID:America/Chicago
BEGIN:DAYLIGHT
TZOFFSETFROM:-0600
TZOFFSETTO:-0500
TZNAME:CDT
DTSTART:20170312T080000
END:DAYLIGHT
BEGIN:STANDARD
TZOFFSETFROM:-0500
TZOFFSETTO:-0600
TZNAME:CST
DTSTART:20171105T070000
END:STANDARD
END:VTIMEZONE
BEGIN:VEVENT
DTSTART;TZID=America/Chicago:20170420T120000
DTEND;TZID=America/Chicago:20170420T130000
DTSTAMP:20260422T190231
CREATED:20170323T153031Z
LAST-MODIFIED:20170323T153031Z
UID:16265-1492689600-1492693200@algop.org
SUMMARY:Talladega County Republican Party April Meeting
DESCRIPTION:Guest Speaker: ALGOP State Executive Committee Member Steve Henry \nFor more information contact Talladega County GOP                    Chairwoman Gina Grant at 205.862.3834
URL:https://algop.org/event/talladega-county-republican-party-april-meeting/
LOCATION:604 Stone Avenue\, 604 Stone Avenue\, Talladega\, AL\, 35160\, United States
END:VEVENT
BEGIN:VEVENT
DTSTART;TZID=America/Chicago:20170420T180000
DTEND;TZID=America/Chicago:20170420T200000
DTSTAMP:20260422T190231
CREATED:20170321T153531Z
LAST-MODIFIED:20170321T153531Z
UID:16225-1492711200-1492718400@algop.org
SUMMARY:Autauga GOP April Meeting
DESCRIPTION:For more information email autaugagop@gmail.com
URL:https://algop.org/event/autauga-gop-april-meeting/
LOCATION:St. Joseph’s Parish\,  511 N. Memorial Dr\, Prattville\, AL\, United States
END:VEVENT
BEGIN:VEVENT
DTSTART;TZID=America/Chicago:20170420T190000
DTEND;TZID=America/Chicago:20170420T200000
DTSTAMP:20260422T190231
CREATED:20170324T180709Z
LAST-MODIFIED:20170324T180709Z
UID:16357-1492714800-1492718400@algop.org
SUMMARY:Bibb County GOP April Meeting
DESCRIPTION:Dinner begins at 6:00 p.m. with the meeting following at 7:00 p.m.
URL:https://algop.org/event/bibb-county-gop-april-meeting/
LOCATION:Sawmeal Restaurant\, 6880 Alabama 5\,  Brent\, AL\, 35034\, United States
END:VEVENT
END:VCALENDAR