BEGIN:VCALENDAR
VERSION:2.0
PRODID:-//Alabama Republican Party - ECPv5.8.2//NONSGML v1.0//EN
CALSCALE:GREGORIAN
METHOD:PUBLISH
X-WR-CALNAME:Alabama Republican Party
X-ORIGINAL-URL:https://algop.org
X-WR-CALDESC:Events for Alabama Republican Party
BEGIN:VTIMEZONE
TZID:America/Chicago
BEGIN:DAYLIGHT
TZOFFSETFROM:-0600
TZOFFSETTO:-0500
TZNAME:CDT
DTSTART:20170312T080000
END:DAYLIGHT
BEGIN:STANDARD
TZOFFSETFROM:-0500
TZOFFSETTO:-0600
TZNAME:CST
DTSTART:20171105T070000
END:STANDARD
END:VTIMEZONE
BEGIN:VEVENT
DTSTART;TZID=America/Chicago:20170415T080000
DTEND;TZID=America/Chicago:20170415T090000
DTSTAMP:20260422T190230
CREATED:20170413T133201Z
LAST-MODIFIED:20170413T133201Z
UID:16500-1492243200-1492246800@algop.org
SUMMARY:Huntsville Republican Men's Club - April Meeting
DESCRIPTION:Steve Flowers will be the speaker at this month’s meeting of the Madison County Republican Men’s Club. Flowers served in the Alabama Legislature for 20 years as the State Representative from Pike County (Troy). He now writes a political column for about 60 weekly newspapers in Alabama. His subject will be “Politics in Alabama\, past and present.” \nThe meeting will be held in the gymnasium of the Trinity United Methodist Church at 607 Airport Road in Huntsville. \nThe social hour will begin at 7:00 a. m. and coffee will be available at that time. \nThe meeting will be called to order promptly at 8:00 a. m. and breakfast will be available buffet style. The speaking will begin about 8:40 a. m. The meeting will be adjourned at 9:00 a. m. \nLadies are welcome and 30 or more attend each month. \nThe cost to attend the meeting is $7.00\, which includes breakfast. Dress is casual. \nFor more information\, call Elbert Peters at 256-337-9877.
URL:https://algop.org/event/huntsville-republican-mens-club-april-meeting/
LOCATION:Trinity United Methodist Church\, Huntsville\, AL\, United States
END:VEVENT
END:VCALENDAR