BEGIN:VCALENDAR
VERSION:2.0
PRODID:-//Alabama Republican Party - ECPv5.8.2//NONSGML v1.0//EN
CALSCALE:GREGORIAN
METHOD:PUBLISH
X-WR-CALNAME:Alabama Republican Party
X-ORIGINAL-URL:https://algop.org
X-WR-CALDESC:Events for Alabama Republican Party
BEGIN:VTIMEZONE
TZID:America/Chicago
BEGIN:DAYLIGHT
TZOFFSETFROM:-0600
TZOFFSETTO:-0500
TZNAME:CDT
DTSTART:20170312T080000
END:DAYLIGHT
BEGIN:STANDARD
TZOFFSETFROM:-0500
TZOFFSETTO:-0600
TZNAME:CST
DTSTART:20171105T070000
END:STANDARD
END:VTIMEZONE
BEGIN:VEVENT
DTSTART;TZID=America/Chicago:20170411T113000
DTEND;TZID=America/Chicago:20170411T130000
DTSTAMP:20260422T190230
CREATED:20170330T140501Z
LAST-MODIFIED:20170330T140501Z
UID:16443-1491910200-1491915600@algop.org
SUMMARY:AFRW Luncheon with former Maryland Governor Robert Ehrilich
DESCRIPTION:Join the Alabama Federation of Republican Women at The Club for a luncheon and book signing with former Maryland Governor Robert Ehrlich. \nLunch and a book will be provided. \nTickets can be purchased here: \nhttps://www.eventbrite.com/e/alabama-federation-of-republican-women-and-governor-robert-ehrlich-luncheon-tickets-32675997789?aff=eac2
URL:https://algop.org/event/afrw-luncheon-with-former-maryland-governor-robert-ehrilich/
LOCATION:The Club\, 1 Robert S. Smith Drive \, Birmingham\, AL\, 35209\, United States
END:VEVENT
BEGIN:VEVENT
DTSTART;TZID=America/Chicago:20170411T190000
DTEND;TZID=America/Chicago:20170411T200000
DTSTAMP:20260422T190230
CREATED:20170323T143013Z
LAST-MODIFIED:20170323T143013Z
UID:16250-1491937200-1491940800@algop.org
SUMMARY:Fayette County GOP - April Meeting
DESCRIPTION:Meetings are held in the Guthrie Smith Room.
URL:https://algop.org/event/fayette-county-gop-april-meeting/
LOCATION:Bevill State Community College in Fayette\, 2631 Temple Ave N\, Fayette\, AL\, 35555\, United States
END:VEVENT
END:VCALENDAR