BEGIN:VCALENDAR
VERSION:2.0
PRODID:-//Alabama Republican Party - ECPv5.8.2//NONSGML v1.0//EN
CALSCALE:GREGORIAN
METHOD:PUBLISH
X-WR-CALNAME:Alabama Republican Party
X-ORIGINAL-URL:https://algop.org
X-WR-CALDESC:Events for Alabama Republican Party
BEGIN:VTIMEZONE
TZID:America/Chicago
BEGIN:DAYLIGHT
TZOFFSETFROM:-0600
TZOFFSETTO:-0500
TZNAME:CDT
DTSTART:20170312T080000
END:DAYLIGHT
BEGIN:STANDARD
TZOFFSETFROM:-0500
TZOFFSETTO:-0600
TZNAME:CST
DTSTART:20171105T070000
END:STANDARD
END:VTIMEZONE
BEGIN:VEVENT
DTSTART;TZID=America/Chicago:20170323T183000
DTEND;TZID=America/Chicago:20170323T200000
DTSTAMP:20260422T173222
CREATED:20170323T155025Z
LAST-MODIFIED:20170323T155025Z
UID:16268-1490293800-1490299200@algop.org
SUMMARY:Montgomery County GOP March Meeting
DESCRIPTION:The meeting will be held in the Mallard Room at Homewood Suites\, 1800 Interstate Park. Dinner may be purchased for $10 from 5:30-6:30. Drinks are complimentary. The meeting begins at 6:30.
URL:https://algop.org/event/montgomery-county-gop-march-meeting/
LOCATION:Faulkner University Cafe\, 5345 Atlanta Highway\, Montgomery\, AL\, 36109\, United States
END:VEVENT
END:VCALENDAR