BEGIN:VCALENDAR
VERSION:2.0
PRODID:-//Alabama Republican Party - ECPv5.8.2//NONSGML v1.0//EN
CALSCALE:GREGORIAN
METHOD:PUBLISH
X-WR-CALNAME:Alabama Republican Party
X-ORIGINAL-URL:https://algop.org
X-WR-CALDESC:Events for Alabama Republican Party
BEGIN:VTIMEZONE
TZID:America/Chicago
BEGIN:DAYLIGHT
TZOFFSETFROM:-0600
TZOFFSETTO:-0500
TZNAME:CDT
DTSTART:20170312T080000
END:DAYLIGHT
BEGIN:STANDARD
TZOFFSETFROM:-0500
TZOFFSETTO:-0600
TZNAME:CST
DTSTART:20171105T070000
END:STANDARD
END:VTIMEZONE
BEGIN:VEVENT
DTSTART;TZID=America/Chicago:20170224T190000
DTEND;TZID=America/Chicago:20170224T213000
DTSTAMP:20260422T160021
CREATED:20170209T212305Z
LAST-MODIFIED:20170209T212305Z
UID:16142-1487962800-1487971800@algop.org
SUMMARY:ALGOP 2017 Winter Dinner
DESCRIPTION:Join the Alabama Republican Party’s 2017 Winter Dinner on Friday\, February 24 at the Hyatt Regency in Birmingham. \nWe are honored to have Alabama Senate Pro Tempore Del Marsh and Alabama House Speaker Mac McCutcheon join us as honorary dinner co-hosts. \nFeaturing a Special Recognition in Appreciation of the Alabama grassroots activists & Republican volunteers (Mighty Alabama Strike Force teams) that aided in the election victory for President-elect Donald J. Trump.\n \nUPDATE: Tickets for the ALGOP 2017 Winter Dinner are currently sold out! If you haven’t purchased your tickets yet\, you can contact the ALGOP Headquarters at 205-212-5900 to be placed on the waiting list. Please be patient with us as we try to accommodate space for everyone.
URL:https://algop.org/event/algop-2017-winter-dinner-2/
END:VEVENT
END:VCALENDAR