BEGIN:VCALENDAR
VERSION:2.0
PRODID:-//Alabama Republican Party - ECPv5.8.2//NONSGML v1.0//EN
CALSCALE:GREGORIAN
METHOD:PUBLISH
X-WR-CALNAME:Alabama Republican Party
X-ORIGINAL-URL:https://algop.org
X-WR-CALDESC:Events for Alabama Republican Party
BEGIN:VTIMEZONE
TZID:America/Chicago
BEGIN:DAYLIGHT
TZOFFSETFROM:-0600
TZOFFSETTO:-0500
TZNAME:CDT
DTSTART:20160313T080000
END:DAYLIGHT
BEGIN:STANDARD
TZOFFSETFROM:-0500
TZOFFSETTO:-0600
TZNAME:CST
DTSTART:20161106T070000
END:STANDARD
END:VTIMEZONE
BEGIN:VEVENT
DTSTART;TZID=America/Chicago:20161025T173000
DTEND;TZID=America/Chicago:20161025T193000
DTSTAMP:20260422T093527
CREATED:20160915T132734Z
LAST-MODIFIED:20160915T132734Z
UID:15821-1477416600-1477423800@algop.org
SUMMARY:Talladega County Republican Party October Meeting
DESCRIPTION:Meeting starts at 6:30pm. (Please call ahead\, because sometimes we meet in Sylacauga. 205-862-3834)
URL:https://algop.org/event/talladega-county-republican-party-october-meeting/
END:VEVENT
BEGIN:VEVENT
DTSTART;TZID=America/Chicago:20161025T180000
DTEND;TZID=America/Chicago:20161025T200000
DTSTAMP:20260422T093527
CREATED:20160921T205032Z
LAST-MODIFIED:20160921T205032Z
UID:15908-1477418400-1477425600@algop.org
SUMMARY:Morgan County Republican Party October Meeting
DESCRIPTION:
URL:https://algop.org/event/morgan-county-republican-party-october-meeting/
LOCATION:JW Steakhouse\, 45 Marco Drive\,  Decatur\, AL\, 35603\, United States
END:VEVENT
END:VCALENDAR