BEGIN:VCALENDAR
VERSION:2.0
PRODID:-//Alabama Republican Party - ECPv5.8.2//NONSGML v1.0//EN
CALSCALE:GREGORIAN
METHOD:PUBLISH
X-WR-CALNAME:Alabama Republican Party
X-ORIGINAL-URL:https://algop.org
X-WR-CALDESC:Events for Alabama Republican Party
BEGIN:VTIMEZONE
TZID:America/Chicago
BEGIN:DAYLIGHT
TZOFFSETFROM:-0600
TZOFFSETTO:-0500
TZNAME:CDT
DTSTART:20160313T080000
END:DAYLIGHT
BEGIN:STANDARD
TZOFFSETFROM:-0500
TZOFFSETTO:-0600
TZNAME:CST
DTSTART:20161106T070000
END:STANDARD
END:VTIMEZONE
BEGIN:VEVENT
DTSTART;TZID=America/Chicago:20161017T190000
DTEND;TZID=America/Chicago:20161017T210000
DTSTAMP:20260422T093513
CREATED:20160920T145424Z
LAST-MODIFIED:20160920T145424Z
UID:15867-1476730800-1476738000@algop.org
SUMMARY:Dale County Republican Party October Meeting
DESCRIPTION:
URL:https://algop.org/event/dale-county-republican-party-october-meeting/
LOCATION:Hoppergrass Restaurant\, 129 East Ave N\, Ozark\, AL\, 36360\, United States
END:VEVENT
BEGIN:VEVENT
DTSTART;TZID=America/Chicago:20161017T190000
DTEND;TZID=America/Chicago:20161017T210000
DTSTAMP:20260422T093513
CREATED:20160921T202957Z
LAST-MODIFIED:20160921T202957Z
UID:15898-1476730800-1476738000@algop.org
SUMMARY:Madison County Republican Party October Meeting
DESCRIPTION:
URL:https://algop.org/event/madison-county-republican-party-october-meeting/
LOCATION:Madison County Republican Headquarters\, 806 Governors Dr.   Suite 201\, Huntsville\, AL\, United States
END:VEVENT
END:VCALENDAR