BEGIN:VCALENDAR
VERSION:2.0
PRODID:-//Alabama Republican Party - ECPv5.8.2//NONSGML v1.0//EN
CALSCALE:GREGORIAN
METHOD:PUBLISH
X-WR-CALNAME:Alabama Republican Party
X-ORIGINAL-URL:https://algop.org
X-WR-CALDESC:Events for Alabama Republican Party
BEGIN:VTIMEZONE
TZID:America/Chicago
BEGIN:DAYLIGHT
TZOFFSETFROM:-0600
TZOFFSETTO:-0500
TZNAME:CDT
DTSTART:20160313T080000
END:DAYLIGHT
BEGIN:STANDARD
TZOFFSETFROM:-0500
TZOFFSETTO:-0600
TZNAME:CST
DTSTART:20161106T070000
END:STANDARD
END:VTIMEZONE
BEGIN:VEVENT
DTSTART;VALUE=DATE:20160926
DTEND;VALUE=DATE:20160927
DTSTAMP:20260422T075438
CREATED:20160819T183042Z
LAST-MODIFIED:20160819T183042Z
UID:15700-1474848000-1474934399@algop.org
SUMMARY:Houston County Republican Party September Meeting
DESCRIPTION:
URL:https://algop.org/event/houston-county-republican-party-september-meeting/
LOCATION:Houston County Commission Chambers – 3rd floor\, 114 N. Oates Street\, Dothan\, AL\, 36303\, United States
END:VEVENT
BEGIN:VEVENT
DTSTART;TZID=America/Chicago:20160926T080000
DTEND;TZID=America/Chicago:20160926T170000
DTSTAMP:20260422T075438
CREATED:20160926T135344Z
LAST-MODIFIED:20160926T135344Z
UID:15931-1474876800-1474909200@algop.org
SUMMARY:Capital City Young Republicans
DESCRIPTION:Please join us at Brent and Rebekah Beal’s home for the 2016 Presidential debate between Donald Trump and Hillary Clinton!! This will be a fun time for us all to get together. There will be light refreshments provided.  \nFacebook event link: \nhttps://www.facebook.com/events/1773329052937235/?notif_t=plan_user_invited¬if_id=1474900714663993
URL:https://algop.org/event/capital-city-young-republicans/
LOCATION:513 Lake Cameron Drive\, Pike Road\, AL\, 36064\, United States
END:VEVENT
BEGIN:VEVENT
DTSTART;TZID=America/Chicago:20160926T180000
DTEND;TZID=America/Chicago:20160926T220000
DTSTAMP:20260422T075438
CREATED:20160926T144109Z
LAST-MODIFIED:20160926T144109Z
UID:15941-1474912800-1474927200@algop.org
SUMMARY:Madison County Young Republicans Debate Watch Party
DESCRIPTION:Set up and social from 6:00 -8:00 p.m. The debate starts at 8:00 pm on TV.
URL:https://algop.org/event/madison-county-young-republicans-debate-watch-party/
LOCATION:220 Holmes Ave NE\, Huntsville\, AL\, 35801\, United States
END:VEVENT
BEGIN:VEVENT
DTSTART;TZID=America/Chicago:20160926T180000
DTEND;TZID=America/Chicago:20160926T220000
DTSTAMP:20260422T075438
CREATED:20160926T144838Z
LAST-MODIFIED:20160926T144838Z
UID:15945-1474912800-1474927200@algop.org
SUMMARY:DeKalb County Republican Party Republican Tailgate Debate
DESCRIPTION:Join the DeKalb County for free food\, fun and fellowship. Burgers and hot dogs will be provided. \nAlso\, come purchase your Trump merchandise.
URL:https://algop.org/event/dekalb-county-republican-party-republican-tailgate-debate/
LOCATION:AL
END:VEVENT
BEGIN:VEVENT
DTSTART;TZID=America/Chicago:20160926T190000
DTEND;TZID=America/Chicago:20160926T210000
DTSTAMP:20260422T075438
CREATED:20160922T205955Z
LAST-MODIFIED:20160922T205955Z
UID:15919-1474916400-1474923600@algop.org
SUMMARY:Jefferson County Republican Party Debate Watch Party
DESCRIPTION:CO-HOSTED BY: Jefferson County GOP Party and the Alabama Minority GOP \nBRING a dish to share\nBYOB and your tailgate chair\nPlates\, napkins\, utensils\, tea and water will be provided. \nPRIOR to the Debate there will be a meeting of the Alabama Minority GOP
URL:https://algop.org/event/jefferson-county-republican-party-debate-watch-party/
LOCATION:AL
END:VEVENT
BEGIN:VEVENT
DTSTART;TZID=America/Chicago:20160926T193000
DTEND;TZID=America/Chicago:20160926T220000
DTSTAMP:20260422T075438
CREATED:20160919T141146Z
LAST-MODIFIED:20160919T141146Z
UID:15842-1474918200-1474927200@algop.org
SUMMARY:Greater Birmingham Young Republicans Debate Watch Party
DESCRIPTION:
URL:https://algop.org/event/greater-birmingham-young-republicans-debate-watch-party/
LOCATION:AL
END:VEVENT
BEGIN:VEVENT
DTSTART;TZID=America/Chicago:20160926T193000
DTEND;TZID=America/Chicago:20160926T220000
DTSTAMP:20260422T075438
CREATED:20160926T133154Z
LAST-MODIFIED:20160926T133154Z
UID:15922-1474918200-1474927200@algop.org
SUMMARY:Baldwin County Young Republicans September Meeting and Debate Watch Party
DESCRIPTION:
URL:https://algop.org/event/baldwin-county-young-republicans-september-meeting-and-debate-watch-party/
LOCATION:AL
END:VEVENT
BEGIN:VEVENT
DTSTART;TZID=America/Chicago:20160926T193000
DTEND;TZID=America/Chicago:20160926T220000
DTSTAMP:20260422T075438
CREATED:20160926T134055Z
LAST-MODIFIED:20160926T134055Z
UID:15926-1474918200-1474927200@algop.org
SUMMARY:Autauga County Republican Party Debate Watch Party
DESCRIPTION:Large Screen T. V.\nPopcorn and drinks provided.
URL:https://algop.org/event/autauga-county-republican-party-debate-watch-party/
LOCATION:AL
END:VEVENT
BEGIN:VEVENT
DTSTART;TZID=America/Chicago:20160926T193000
DTEND;TZID=America/Chicago:20160926T213000
DTSTAMP:20260422T075438
CREATED:20160926T140957Z
LAST-MODIFIED:20160926T140957Z
UID:15935-1474918200-1474925400@algop.org
SUMMARY:UAH College Republicans Debate Watch Party
DESCRIPTION:Join UAH College Republicans for our first meeting and Presidential Debate Watch Party! We will be meeting in Charger Union 229 at 7:30pm – Our agenda includes an introduction to UAHCR\, Officer Appointments\, and a brief overview of our calendar\, events\, and goals. \nFollowing the meeting\, UAHCR is partnering with the Office of Student Life to stream the first Presidential Debate live in the Charger Union Theater! Food and drinks will be provided to all students. \nUAHCR will be also be providing free prizes\, giveaways\, and CR promotional items to all students in attendance! \nFacebook event link: \nhttps://www.facebook.com/events/1591711531125444/ \n 
URL:https://algop.org/event/uah-college-republicans-debate-watch-party/
LOCATION:AL
END:VEVENT
BEGIN:VEVENT
DTSTART;TZID=America/Chicago:20160926T193000
DTEND;TZID=America/Chicago:20160926T213000
DTSTAMP:20260422T075438
CREATED:20160926T155746Z
LAST-MODIFIED:20160926T155746Z
UID:15951-1474918200-1474925400@algop.org
SUMMARY:Montgomery County GOP Debate Watch Party
DESCRIPTION:
URL:https://algop.org/event/montgomery-county-gop-debate-watch-party/
LOCATION:AL
END:VEVENT
BEGIN:VEVENT
DTSTART;TZID=America/Chicago:20160926T200000
DTEND;TZID=America/Chicago:20160926T220000
DTSTAMP:20260422T075438
CREATED:20160919T133858Z
LAST-MODIFIED:20160919T133858Z
UID:15838-1474920000-1474927200@algop.org
SUMMARY:Mobile County Republican Party Debate Watch Party
DESCRIPTION:MCREC Steering Committee will meet at Headquarters from 6:00 – 7:00 p.m.
URL:https://algop.org/event/mobile-county-republican-party-debate-watch-party/
LOCATION:AL
END:VEVENT
END:VCALENDAR