BEGIN:VCALENDAR
VERSION:2.0
PRODID:-//Alabama Republican Party - ECPv5.8.2//NONSGML v1.0//EN
CALSCALE:GREGORIAN
METHOD:PUBLISH
X-WR-CALNAME:Alabama Republican Party
X-ORIGINAL-URL:https://algop.org
X-WR-CALDESC:Events for Alabama Republican Party
BEGIN:VTIMEZONE
TZID:America/Chicago
BEGIN:DAYLIGHT
TZOFFSETFROM:-0600
TZOFFSETTO:-0500
TZNAME:CDT
DTSTART:20160313T080000
END:DAYLIGHT
BEGIN:STANDARD
TZOFFSETFROM:-0500
TZOFFSETTO:-0600
TZNAME:CST
DTSTART:20161106T070000
END:STANDARD
END:VTIMEZONE
BEGIN:VEVENT
DTSTART;TZID=America/Chicago:20160919T070000
DTEND;TZID=America/Chicago:20160919T210000
DTSTAMP:20260422T075438
CREATED:20160822T145523Z
LAST-MODIFIED:20160822T145523Z
UID:15720-1474268400-1474318800@algop.org
SUMMARY:Dale County Republican Party September Meeting
DESCRIPTION:
URL:https://algop.org/event/dale-county-republican-party-september-meeting/
LOCATION:Hoppergrass Restaurant\, 129 East Ave N\, Ozark\, AL\, 36360\, United States
END:VEVENT
BEGIN:VEVENT
DTSTART;TZID=America/Chicago:20160919T080000
DTEND;TZID=America/Chicago:20160919T170000
DTSTAMP:20260422T075438
CREATED:20160919T141644Z
LAST-MODIFIED:20160919T141644Z
UID:15846-1474272000-1474304400@algop.org
SUMMARY:Jefferson County GOP and Alabama Minority GOP Debate Watch Party
DESCRIPTION:CO-HOSTED BY: Jefferson County GOP Party and the Alabama Minority GOP \nBRING a dish to share\nBYOB and your tailgate chair\nPlates\, napkins\, utensils\, tea and water will be provided. \nPRIOR to the Debate there will be a meeting of the Alabama Minority GOP
URL:https://algop.org/event/jefferson-county-gop-and-alabama-minority-gop-debate-watch-party/
LOCATION:AL
END:VEVENT
BEGIN:VEVENT
DTSTART;TZID=America/Chicago:20160919T190000
DTEND;TZID=America/Chicago:20160919T210000
DTSTAMP:20260422T075438
CREATED:20160819T151109Z
LAST-MODIFIED:20160819T151109Z
UID:15691-1474311600-1474318800@algop.org
SUMMARY:Madison County Republican Party September Meeting
DESCRIPTION:
URL:https://algop.org/event/madison-county-republican-party-september-meeting/
LOCATION:Madison County Republican Headquarters\, 806 Governors Dr.   Suite 201\, Huntsville\, AL\, United States
END:VEVENT
END:VCALENDAR