BEGIN:VCALENDAR
VERSION:2.0
PRODID:-//Alabama Republican Party - ECPv5.8.2//NONSGML v1.0//EN
CALSCALE:GREGORIAN
METHOD:PUBLISH
X-WR-CALNAME:Alabama Republican Party
X-ORIGINAL-URL:https://algop.org
X-WR-CALDESC:Events for Alabama Republican Party
BEGIN:VTIMEZONE
TZID:America/Chicago
BEGIN:DAYLIGHT
TZOFFSETFROM:-0600
TZOFFSETTO:-0500
TZNAME:CDT
DTSTART:20160313T080000
END:DAYLIGHT
BEGIN:STANDARD
TZOFFSETFROM:-0500
TZOFFSETTO:-0600
TZNAME:CST
DTSTART:20161106T070000
END:STANDARD
END:VTIMEZONE
BEGIN:VEVENT
DTSTART;TZID=America/Chicago:20160918T140000
DTEND;TZID=America/Chicago:20160918T160000
DTSTAMP:20260422T075322
CREATED:20160915T144000Z
LAST-MODIFIED:20160915T144000Z
UID:15827-1474207200-1474214400@algop.org
SUMMARY:Elmore County Republican Party Headquarters Grand Opening
DESCRIPTION:Special Guests: Donica Knight & Perry O. Hooper Jr. \nPick up your Trump/Pence supplies!
URL:https://algop.org/event/elmore-county-republican-party-headquarters-grand-opening/
END:VEVENT
END:VCALENDAR