BEGIN:VCALENDAR
VERSION:2.0
PRODID:-//Alabama Republican Party - ECPv5.8.2//NONSGML v1.0//EN
CALSCALE:GREGORIAN
METHOD:PUBLISH
X-WR-CALNAME:Alabama Republican Party
X-ORIGINAL-URL:https://algop.org
X-WR-CALDESC:Events for Alabama Republican Party
BEGIN:VTIMEZONE
TZID:America/Chicago
BEGIN:DAYLIGHT
TZOFFSETFROM:-0600
TZOFFSETTO:-0500
TZNAME:CDT
DTSTART:20160313T080000
END:DAYLIGHT
BEGIN:STANDARD
TZOFFSETFROM:-0500
TZOFFSETTO:-0600
TZNAME:CST
DTSTART:20161106T070000
END:STANDARD
END:VTIMEZONE
BEGIN:VEVENT
DTSTART;VALUE=DATE:20160913
DTEND;VALUE=DATE:20160914
DTSTAMP:20260422T075321
CREATED:20160818T205744Z
LAST-MODIFIED:20160818T205744Z
UID:15681-1473724800-1473811199@algop.org
SUMMARY:Randolph County Republican Party September Meeting
DESCRIPTION:
URL:https://algop.org/event/randolph-county-republican-party-september-meeting/
LOCATION:Sunny’s Home Cooking\, 2028 US-431\, Roanoke\, AL\, 36274\, United States
END:VEVENT
BEGIN:VEVENT
DTSTART;TZID=America/Chicago:20160913T190000
DTEND;TZID=America/Chicago:20160913T210000
DTSTAMP:20260422T075321
CREATED:20160819T184334Z
LAST-MODIFIED:20160819T184334Z
UID:15704-1473793200-1473800400@algop.org
SUMMARY:Fayette County Republican Party September Meeting
DESCRIPTION:Guthrie Smith room
URL:https://algop.org/event/fayette-county-republican-party-september-meeting/
LOCATION:Bevill State Community College in Fayette\, 2631 Temple Ave N\, Fayette\, AL\, 35555\, United States
END:VEVENT
END:VCALENDAR