BEGIN:VCALENDAR
VERSION:2.0
PRODID:-//Alabama Republican Party - ECPv5.8.2//NONSGML v1.0//EN
CALSCALE:GREGORIAN
METHOD:PUBLISH
X-WR-CALNAME:Alabama Republican Party
X-ORIGINAL-URL:https://algop.org
X-WR-CALDESC:Events for Alabama Republican Party
BEGIN:VTIMEZONE
TZID:America/Chicago
BEGIN:DAYLIGHT
TZOFFSETFROM:-0600
TZOFFSETTO:-0500
TZNAME:CDT
DTSTART:20160313T080000
END:DAYLIGHT
BEGIN:STANDARD
TZOFFSETFROM:-0500
TZOFFSETTO:-0600
TZNAME:CST
DTSTART:20161106T070000
END:STANDARD
END:VTIMEZONE
BEGIN:VEVENT
DTSTART;TZID=America/Chicago:20160910T100000
DTEND;TZID=America/Chicago:20160910T120000
DTSTAMP:20260422T075438
CREATED:20160902T155840Z
LAST-MODIFIED:20160902T155840Z
UID:15750-1473501600-1473508800@algop.org
SUMMARY:Mobile County Republican Party Headquarters Grand Opening
DESCRIPTION:The Mobile County Republican Executive Committee invites you to join them for BBQ\, music and fun! \nMCREC WELCOMES:\nMr. Frank Burt\nDistrict I Electoral College Rep \nMr. Perry O. Hooper\, Jr.\nCo-Chair Alabama Trump Campaign \nDonations will be received for various items supporting the next President of the United States\, DONALD J. TRUMP!\nBring a friend and help build the excitement!
URL:https://algop.org/event/mobile-county-republican-party-headquarters-grand-opening/
END:VEVENT
BEGIN:VEVENT
DTSTART;TZID=America/Chicago:20160910T180000
DTEND;TZID=America/Chicago:20160910T200000
DTSTAMP:20260422T075438
CREATED:20160902T154146Z
LAST-MODIFIED:20160902T154146Z
UID:15746-1473530400-1473537600@algop.org
SUMMARY:Baldwin County Republican Party Grand Opening
DESCRIPTION:
URL:https://algop.org/event/baldwin-county-republican-party-grand-opening/
END:VEVENT
END:VCALENDAR