BEGIN:VCALENDAR
VERSION:2.0
PRODID:-//Alabama Republican Party - ECPv5.8.2//NONSGML v1.0//EN
CALSCALE:GREGORIAN
METHOD:PUBLISH
X-WR-CALNAME:Alabama Republican Party
X-ORIGINAL-URL:https://algop.org
X-WR-CALDESC:Events for Alabama Republican Party
BEGIN:VTIMEZONE
TZID:America/Chicago
BEGIN:DAYLIGHT
TZOFFSETFROM:-0600
TZOFFSETTO:-0500
TZNAME:CDT
DTSTART:20160313T080000
END:DAYLIGHT
BEGIN:STANDARD
TZOFFSETFROM:-0500
TZOFFSETTO:-0600
TZNAME:CST
DTSTART:20161106T070000
END:STANDARD
END:VTIMEZONE
BEGIN:VEVENT
DTSTART;TZID=America/Chicago:20160909T170000
DTEND;TZID=America/Chicago:20160909T200000
DTSTAMP:20260422T093624
CREATED:20160908T153418Z
LAST-MODIFIED:20160908T153418Z
UID:15782-1473440400-1473451200@algop.org
SUMMARY:Tuscaloosa County Republican Party Headquarters Open House
DESCRIPTION:
URL:https://algop.org/event/tuscaloosa-county-republican-party-headquarters-open-house/
END:VEVENT
END:VCALENDAR