BEGIN:VCALENDAR
VERSION:2.0
PRODID:-//Alabama Republican Party - ECPv5.8.2//NONSGML v1.0//EN
CALSCALE:GREGORIAN
METHOD:PUBLISH
X-WR-CALNAME:Alabama Republican Party
X-ORIGINAL-URL:https://algop.org
X-WR-CALDESC:Events for Alabama Republican Party
BEGIN:VTIMEZONE
TZID:America/Chicago
BEGIN:DAYLIGHT
TZOFFSETFROM:-0600
TZOFFSETTO:-0500
TZNAME:CDT
DTSTART:20160313T080000
END:DAYLIGHT
BEGIN:STANDARD
TZOFFSETFROM:-0500
TZOFFSETTO:-0600
TZNAME:CST
DTSTART:20161106T070000
END:STANDARD
END:VTIMEZONE
BEGIN:VEVENT
DTSTART;TZID=America/Chicago:20160906T180000
DTEND;TZID=America/Chicago:20160906T200000
DTSTAMP:20260422T075322
CREATED:20160819T145841Z
LAST-MODIFIED:20160819T145841Z
UID:15690-1473184800-1473192000@algop.org
SUMMARY:Marshall Republican Party September Meeting
DESCRIPTION:
URL:https://algop.org/event/marshall-republican-party-september-meeting/
LOCATION:Wintzell’s Oyster House – Guntersville\, 14455 US-431\, Guntersville\, AL\, 35976\, United States
END:VEVENT
BEGIN:VEVENT
DTSTART;TZID=America/Chicago:20160906T180000
DTEND;TZID=America/Chicago:20160906T200000
DTSTAMP:20260422T075322
CREATED:20160822T150043Z
LAST-MODIFIED:20160822T150043Z
UID:15721-1473184800-1473192000@algop.org
SUMMARY:Elmore County Republican Party September Meeting
DESCRIPTION:Elmore County Judicial Complex on Hwy 231 in either the Grand Jury Room or one of the court rooms.
URL:https://algop.org/event/elmore-county-republican-party-september-meeting/
LOCATION:Elmore County Judicial Complex\, 8935 US-231\, Wetumpka\, AL\, 36092\, United States
END:VEVENT
END:VCALENDAR