BEGIN:VCALENDAR
VERSION:2.0
PRODID:-//Alabama Republican Party - ECPv5.8.2//NONSGML v1.0//EN
CALSCALE:GREGORIAN
METHOD:PUBLISH
X-WR-CALNAME:Alabama Republican Party
X-ORIGINAL-URL:https://algop.org
X-WR-CALDESC:Events for Alabama Republican Party
BEGIN:VTIMEZONE
TZID:America/Chicago
BEGIN:DAYLIGHT
TZOFFSETFROM:-0600
TZOFFSETTO:-0500
TZNAME:CDT
DTSTART:20160313T080000
END:DAYLIGHT
BEGIN:STANDARD
TZOFFSETFROM:-0500
TZOFFSETTO:-0600
TZNAME:CST
DTSTART:20161106T070000
END:STANDARD
END:VTIMEZONE
BEGIN:VEVENT
DTSTART;TZID=America/Chicago:20160818T190000
DTEND;TZID=America/Chicago:20160818T200000
DTSTAMP:20260422T062553
CREATED:20160802T174323Z
LAST-MODIFIED:20160802T174323Z
UID:15645-1471546800-1471550400@algop.org
SUMMARY:Bibb County Republican Party August Meeting
DESCRIPTION:
URL:https://algop.org/event/bibb-county-republican-party-august-meeting/
LOCATION:Sawmeal Restaurant\, 6880 Alabama 5\,  Brent\, AL\, 35034\, United States
END:VEVENT
END:VCALENDAR