BEGIN:VCALENDAR
VERSION:2.0
PRODID:-//Alabama Republican Party - ECPv5.8.2//NONSGML v1.0//EN
CALSCALE:GREGORIAN
METHOD:PUBLISH
X-WR-CALNAME:Alabama Republican Party
X-ORIGINAL-URL:https://algop.org
X-WR-CALDESC:Events for Alabama Republican Party
BEGIN:VTIMEZONE
TZID:America/Chicago
BEGIN:DAYLIGHT
TZOFFSETFROM:-0600
TZOFFSETTO:-0500
TZNAME:CDT
DTSTART:20160313T080000
END:DAYLIGHT
BEGIN:STANDARD
TZOFFSETFROM:-0500
TZOFFSETTO:-0600
TZNAME:CST
DTSTART:20161106T070000
END:STANDARD
END:VTIMEZONE
BEGIN:VEVENT
DTSTART;TZID=America/Chicago:20160809T180000
DTEND;TZID=America/Chicago:20160809T190000
DTSTAMP:20260422T062606
CREATED:20160805T204656Z
LAST-MODIFIED:20160805T204656Z
UID:15664-1470765600-1470769200@algop.org
SUMMARY:District 5 Meeting
DESCRIPTION:
URL:https://algop.org/event/district-5-meeting/
LOCATION:Old Greenbrier Restaurant\, 27028 Old Hwy 20\, Madison\, AL \, AL\, 35756\, United States
END:VEVENT
END:VCALENDAR