BEGIN:VCALENDAR
VERSION:2.0
PRODID:-//Alabama Republican Party - ECPv5.8.2//NONSGML v1.0//EN
CALSCALE:GREGORIAN
METHOD:PUBLISH
X-WR-CALNAME:Alabama Republican Party
X-ORIGINAL-URL:https://algop.org
X-WR-CALDESC:Events for Alabama Republican Party
BEGIN:VTIMEZONE
TZID:America/Chicago
BEGIN:DAYLIGHT
TZOFFSETFROM:-0600
TZOFFSETTO:-0500
TZNAME:CDT
DTSTART:20160313T080000
END:DAYLIGHT
BEGIN:STANDARD
TZOFFSETFROM:-0500
TZOFFSETTO:-0600
TZNAME:CST
DTSTART:20161106T070000
END:STANDARD
END:VTIMEZONE
BEGIN:VEVENT
DTSTART;TZID=America/Chicago:20160503T183000
DTEND;TZID=America/Chicago:20160503T203000
DTSTAMP:20260420T002308
CREATED:20160428T151726Z
LAST-MODIFIED:20160428T151726Z
UID:15370-1462300200-1462307400@algop.org
SUMMARY:Marshall County Republican Club Meeting
DESCRIPTION:Marshall County Republican Club monthly meeting
URL:https://algop.org/event/marshall-county-republican-club-meeting-3/
LOCATION:Wintzell’s Restaurant\, 14455 US-431\, Guntersville \, AL\, Select a Country:
END:VEVENT
END:VCALENDAR