BEGIN:VCALENDAR
VERSION:2.0
PRODID:-//Alabama Republican Party - ECPv5.8.2//NONSGML v1.0//EN
CALSCALE:GREGORIAN
METHOD:PUBLISH
X-WR-CALNAME:Alabama Republican Party
X-ORIGINAL-URL:https://algop.org
X-WR-CALDESC:Events for Alabama Republican Party
BEGIN:VTIMEZONE
TZID:America/Chicago
BEGIN:DAYLIGHT
TZOFFSETFROM:-0600
TZOFFSETTO:-0500
TZNAME:CDT
DTSTART:20160313T080000
END:DAYLIGHT
BEGIN:STANDARD
TZOFFSETFROM:-0500
TZOFFSETTO:-0600
TZNAME:CST
DTSTART:20161106T070000
END:STANDARD
END:VTIMEZONE
BEGIN:VEVENT
DTSTART;TZID=America/Chicago:20160229T180000
DTEND;TZID=America/Chicago:20160229T210000
DTSTAMP:20260419T193539
CREATED:20160211T191521Z
LAST-MODIFIED:20160211T191521Z
UID:15066-1456768800-1456779600@algop.org
SUMMARY:Lee County GOP Martha Harlan Event
DESCRIPTION:The Lee County GOP Executive Committee will hold the Annual Martha Harlan Event on Monday\, February 29 at the Bottling Plant Event Center in Opelika. The keynote speaker will be Secretary of State John Merrill. Tables of 10 and individual tickets are available for purchase. There will be a social hour beginning at 6:00 complete with bluegrass music to kick off the SEC Primary the next day and dinner will be served at 7:00. Contact Randy Price\, Lee County GOP Executive Committee Chairman\, at 334-559-0483 or rlowp1@gmail.com for more information.
URL:https://algop.org/event/lee-county-gop-martha-harlan-event/
LOCATION:Bottling Plant Event Center\, 614 N. Railroad Ave.\, Opelika\, AL\, 36801\, United States
ORGANIZER;CN="Randy%20Price":MAILTO:rlowp1@gmail.com
END:VEVENT
END:VCALENDAR