BEGIN:VCALENDAR
VERSION:2.0
PRODID:-//Alabama Republican Party - ECPv5.8.2//NONSGML v1.0//EN
CALSCALE:GREGORIAN
METHOD:PUBLISH
X-WR-CALNAME:Alabama Republican Party
X-ORIGINAL-URL:https://algop.org
X-WR-CALDESC:Events for Alabama Republican Party
BEGIN:VTIMEZONE
TZID:America/Chicago
BEGIN:DAYLIGHT
TZOFFSETFROM:-0600
TZOFFSETTO:-0500
TZNAME:CDT
DTSTART:20160313T080000
END:DAYLIGHT
BEGIN:STANDARD
TZOFFSETFROM:-0500
TZOFFSETTO:-0600
TZNAME:CST
DTSTART:20161106T070000
END:STANDARD
END:VTIMEZONE
BEGIN:VEVENT
DTSTART;TZID=America/Chicago:20160227T190000
DTEND;TZID=America/Chicago:20160227T210000
DTSTAMP:20260419T193538
CREATED:20160217T150651Z
LAST-MODIFIED:20160217T150651Z
UID:15078-1456599600-1456606800@algop.org
SUMMARY:ALGOP 2016 Winter Meeting and Dinner
DESCRIPTION:Join us as we “Sail into 2016” at our annual Winter Dinner on February 27th\, 2016 at the Outlaw Convention Center in Mobile\, Alabama. \nEvent schedule: \n1:00 p.m. – SEC Meeting – Outlaw Convention Center Grand Ballroom \n5:45 p.m. – General and VIP Reception \nGeneral Reception – Outlaw Convention Center \nVIP Reception – GulfQuest Maritime Museum \n7:00 p.m – Dinner at the Arthur Outlaw Convention Center Grand Ballroom \nCLICK HERE TO PURCHASE TICKETS \nIf you have a question about your tickets\, please contact Katie Lansford at 205-212-5900 or at katie@algop.org \nSponsorship Package Information \nFor sponsorship inquiries\, please contact Finance Director Zach Bowman at zbowman@algop.org\nor 205-212-5900 \nFor media inquiries\, please contact Communications Director Katie Lansford at katie@algop.org or\n205-212-5900
URL:https://algop.org/event/algop-2016-winter-meeting-and-dinner/
LOCATION:Outlaw Convention Center\, Mobile 
END:VEVENT
END:VCALENDAR