BEGIN:VCALENDAR
VERSION:2.0
PRODID:-//Alabama Republican Party - ECPv5.8.2//NONSGML v1.0//EN
CALSCALE:GREGORIAN
METHOD:PUBLISH
X-WR-CALNAME:Alabama Republican Party
X-ORIGINAL-URL:https://algop.org
X-WR-CALDESC:Events for Alabama Republican Party
BEGIN:VTIMEZONE
TZID:America/Chicago
BEGIN:DAYLIGHT
TZOFFSETFROM:-0600
TZOFFSETTO:-0500
TZNAME:CDT
DTSTART:20150308T080000
END:DAYLIGHT
BEGIN:STANDARD
TZOFFSETFROM:-0500
TZOFFSETTO:-0600
TZNAME:CST
DTSTART:20151101T070000
END:STANDARD
END:VTIMEZONE
BEGIN:VEVENT
DTSTART;TZID=America/Chicago:20151212T083000
DTEND;TZID=America/Chicago:20151212T100000
DTSTAMP:20260419T163712
CREATED:20150417T143530Z
LAST-MODIFIED:20150417T143530Z
UID:13105-1449909000-1449914400@algop.org
SUMMARY:Marion County Executive Committee Meeting
DESCRIPTION:Monthly meeting of the Marion County Executive Committee at Cedar Landing in Winfield\, AL. Breakfast begins at 8:30AM\, meeting begins at 9:00AM. For more information\, please contact David Hall at halld1955@yahoo.com
URL:https://algop.org/event/marion-county-executive-committee-meeting-8/
END:VEVENT
END:VCALENDAR