BEGIN:VCALENDAR
VERSION:2.0
PRODID:-//Alabama Republican Party - ECPv5.8.2//NONSGML v1.0//EN
CALSCALE:GREGORIAN
METHOD:PUBLISH
X-WR-CALNAME:Alabama Republican Party
X-ORIGINAL-URL:https://algop.org
X-WR-CALDESC:Events for Alabama Republican Party
BEGIN:VTIMEZONE
TZID:America/Chicago
BEGIN:DAYLIGHT
TZOFFSETFROM:-0600
TZOFFSETTO:-0500
TZNAME:CDT
DTSTART:20150308T080000
END:DAYLIGHT
BEGIN:STANDARD
TZOFFSETFROM:-0500
TZOFFSETTO:-0600
TZNAME:CST
DTSTART:20151101T070000
END:STANDARD
TZID:America/Chicago
BEGIN:DAYLIGHT
TZOFFSETFROM:-0600
TZOFFSETTO:-0500
TZNAME:CDT
DTSTART:20150308T080000
END:DAYLIGHT
BEGIN:STANDARD
TZOFFSETFROM:-0500
TZOFFSETTO:-0600
TZNAME:CST
DTSTART:20151101T070000
END:STANDARD
END:VTIMEZONE
BEGIN:VEVENT
DTSTART;TZID=America/Chicago:20151114T073000
DTEND;TZID=America/Chicago:20151114T083000
DTSTAMP:20260419T163051
CREATED:20151022T132214Z
LAST-MODIFIED:20151022T132214Z
UID:14152-1447486200-1447489800@algop.org
SUMMARY:DeKalb Republican Breakfast Club
DESCRIPTION:Monthly meeting with candidates for County Superintendent of Education speaking. Candidates are incumbent Hugh Taylor and Dr Jason Barnett\, challenger.
URL:https://algop.org/event/dekalb-republican-breakfast-club-11/
LOCATION:Western Sizzlin Steak House\, 1114 Glenn Blvd SW\, Fort Payne\, AL\, 35967\, United States
END:VEVENT
BEGIN:VEVENT
DTSTART;TZID=America/Chicago:20151114T083000
DTEND;TZID=America/Chicago:20151114T100000
DTSTAMP:20260419T163051
CREATED:20150417T143517Z
LAST-MODIFIED:20150417T143517Z
UID:13104-1447489800-1447495200@algop.org
SUMMARY:Marion County Executive Committee Meeting
DESCRIPTION:Monthly meeting of the Marion County Executive Committee at Cedar Landing in Winfield\, AL. Breakfast begins at 8:30AM\, meeting begins at 9:00AM. For more information\, please contact David Hall at halld1955@yahoo.com
URL:https://algop.org/event/marion-county-executive-committee-meeting-7/
LOCATION:AL
END:VEVENT
END:VCALENDAR