BEGIN:VCALENDAR
VERSION:2.0
PRODID:-//Alabama Republican Party - ECPv5.8.2//NONSGML v1.0//EN
CALSCALE:GREGORIAN
METHOD:PUBLISH
X-WR-CALNAME:Alabama Republican Party
X-ORIGINAL-URL:https://algop.org
X-WR-CALDESC:Events for Alabama Republican Party
BEGIN:VTIMEZONE
TZID:America/Chicago
BEGIN:DAYLIGHT
TZOFFSETFROM:-0600
TZOFFSETTO:-0500
TZNAME:CDT
DTSTART:20150308T080000
END:DAYLIGHT
BEGIN:STANDARD
TZOFFSETFROM:-0500
TZOFFSETTO:-0600
TZNAME:CST
DTSTART:20151101T070000
END:STANDARD
END:VTIMEZONE
BEGIN:VEVENT
DTSTART;TZID=America/Chicago:20151110T180000
DTEND;TZID=America/Chicago:20151110T200000
DTSTAMP:20260419T163031
CREATED:20150417T142030Z
LAST-MODIFIED:20150417T142030Z
UID:13071-1447178400-1447185600@algop.org
SUMMARY:Randolph County Executive Committee Meeting
DESCRIPTION:Monthly dinner and meeting for the Randolph County Executive Committee at Sunny’s Restaurant (431 South. Roanoke\, AL). Dinner begins at 6:00pm\, meeting begins at 7:00pm. For more information\, please contact Sid Hare at sidney.hare@gmail.com
URL:https://algop.org/event/randolph-county-executive-committee-meeting-8/
END:VEVENT
BEGIN:VEVENT
DTSTART;TZID=America/Chicago:20151110T190000
DTEND;TZID=America/Chicago:20151110T203000
DTSTAMP:20260419T163031
CREATED:20151013T130449Z
LAST-MODIFIED:20151013T130449Z
UID:14093-1447182000-1447187400@algop.org
SUMMARY:Shelby County Republican Party Quarterly Meeting
DESCRIPTION:Tuesday\, November 10\, 2015 from 7:00 PM to 8:30 PM (CST)\nCounty Services Building\nCounty Services Dr\nPelham\, AL 35124 \n  \nFor more information\, click here.
URL:https://algop.org/event/shelby-county-republican-party-quarterly-meeting/
END:VEVENT
END:VCALENDAR