BEGIN:VCALENDAR
VERSION:2.0
PRODID:-//Alabama Republican Party - ECPv5.8.2//NONSGML v1.0//EN
CALSCALE:GREGORIAN
METHOD:PUBLISH
X-WR-CALNAME:Alabama Republican Party
X-ORIGINAL-URL:https://algop.org
X-WR-CALDESC:Events for Alabama Republican Party
BEGIN:VTIMEZONE
TZID:America/Chicago
BEGIN:DAYLIGHT
TZOFFSETFROM:-0600
TZOFFSETTO:-0500
TZNAME:CDT
DTSTART:20150308T080000
END:DAYLIGHT
BEGIN:STANDARD
TZOFFSETFROM:-0500
TZOFFSETTO:-0600
TZNAME:CST
DTSTART:20151101T070000
END:STANDARD
TZID:America/Chicago
BEGIN:DAYLIGHT
TZOFFSETFROM:-0600
TZOFFSETTO:-0500
TZNAME:CDT
DTSTART:20150308T080000
END:DAYLIGHT
BEGIN:STANDARD
TZOFFSETFROM:-0500
TZOFFSETTO:-0600
TZNAME:CST
DTSTART:20151101T070000
END:STANDARD
END:VTIMEZONE
BEGIN:VEVENT
DTSTART;TZID=America/Chicago:20151103T180000
DTEND;TZID=America/Chicago:20151103T190000
DTSTAMP:20260419T163030
CREATED:20150417T142423Z
LAST-MODIFIED:20150417T142423Z
UID:13079-1446573600-1446577200@algop.org
SUMMARY:Cullman County Executive Committee Meeting
DESCRIPTION:Monthly meeting of the Cullman County Executive Committee at the County Party Headquarters. For more information\, please contact Kelly Duke at kellyduke1972@yahoo.com
URL:https://algop.org/event/cullman-county-executive-committee-meeting-7/
END:VEVENT
BEGIN:VEVENT
DTSTART;TZID=America/Chicago:20151103T180000
DTEND;TZID=America/Chicago:20151103T190000
DTSTAMP:20260419T163030
CREATED:20150417T150043Z
LAST-MODIFIED:20150417T150043Z
UID:13148-1446573600-1446577200@algop.org
SUMMARY:Elmore County Executive Committee Meeting
DESCRIPTION:Monthly meeting of the Elmore County Executive Committee in the Grand Jury Room of the Judicial Complex Building. For more information\, please contact Vicki Bonner Ward at msvicki01@elmore.rr.com
URL:https://algop.org/event/elmore-county-executive-committee-meeting-7/
END:VEVENT
BEGIN:VEVENT
DTSTART;TZID=America/Chicago:20151103T183000
DTEND;TZID=America/Chicago:20151103T203000
DTSTAMP:20260419T163030
CREATED:20151026T152306Z
LAST-MODIFIED:20151026T152306Z
UID:14242-1446575400-1446582600@algop.org
SUMMARY:Marshall County Republican Club Meeting
DESCRIPTION:Marshall County Republican Club will be meeting Tuesday\, November 3\, 2015\, at 6:30 p.m. at the Wintzell’s Restaurant in Guntersville. The guest speaker will be National Committeeman\, Paul Reynolds.
URL:https://algop.org/event/marshall-county-republican-club-meeting-2/
LOCATION:Wintzell’s\, Guntersville\, AL\, United States
END:VEVENT
END:VCALENDAR