BEGIN:VCALENDAR
VERSION:2.0
PRODID:-//Alabama Republican Party - ECPv5.8.2//NONSGML v1.0//EN
CALSCALE:GREGORIAN
METHOD:PUBLISH
X-WR-CALNAME:Alabama Republican Party
X-ORIGINAL-URL:https://algop.org
X-WR-CALDESC:Events for Alabama Republican Party
BEGIN:VTIMEZONE
TZID:America/Chicago
BEGIN:DAYLIGHT
TZOFFSETFROM:-0600
TZOFFSETTO:-0500
TZNAME:CDT
DTSTART:20150308T080000
END:DAYLIGHT
BEGIN:STANDARD
TZOFFSETFROM:-0500
TZOFFSETTO:-0600
TZNAME:CST
DTSTART:20151101T070000
END:STANDARD
END:VTIMEZONE
BEGIN:VEVENT
DTSTART;TZID=America/Chicago:20150921T180000
DTEND;TZID=America/Chicago:20150921T190000
DTSTAMP:20260419T113839
CREATED:20150417T141032Z
LAST-MODIFIED:20150417T141032Z
UID:13051-1442858400-1442862000@algop.org
SUMMARY:Escambia County Executive Committee Meeting
DESCRIPTION:Monthly meeting of the Escambia County Executive Committee. Location changes monthly\, please contact Shane Hadley for more information rshadley@gmx.com
URL:https://algop.org/event/escambia-county-executive-committee-meeting-6/
END:VEVENT
BEGIN:VEVENT
DTSTART;TZID=America/Chicago:20150921T200000
DTEND;TZID=America/Chicago:20150921T200000
DTSTAMP:20260419T113839
CREATED:20150417T152225Z
LAST-MODIFIED:20150417T152225Z
UID:13178-1442865600-1442865600@algop.org
SUMMARY:Madison County Executive Committee Meeting
DESCRIPTION:Bi-Monthly meetings of the Madison County Executive Committee. Location changes each meeting. For more information\, please contact Sam Givhan at sgivhan@wilmerlee.com
URL:https://algop.org/event/madison-county-executive-committee-meeting-3/
END:VEVENT
END:VCALENDAR