BEGIN:VCALENDAR
VERSION:2.0
PRODID:-//Alabama Republican Party - ECPv5.8.2//NONSGML v1.0//EN
CALSCALE:GREGORIAN
METHOD:PUBLISH
X-WR-CALNAME:Alabama Republican Party
X-ORIGINAL-URL:https://algop.org
X-WR-CALDESC:Events for Alabama Republican Party
BEGIN:VTIMEZONE
TZID:America/Chicago
BEGIN:DAYLIGHT
TZOFFSETFROM:-0600
TZOFFSETTO:-0500
TZNAME:CDT
DTSTART:20150308T080000
END:DAYLIGHT
BEGIN:STANDARD
TZOFFSETFROM:-0500
TZOFFSETTO:-0600
TZNAME:CST
DTSTART:20151101T070000
END:STANDARD
END:VTIMEZONE
BEGIN:VEVENT
DTSTART;TZID=America/Chicago:20150905T080000
DTEND;TZID=America/Chicago:20150905T090000
DTSTAMP:20260419T095540
CREATED:20150417T142719Z
LAST-MODIFIED:20150417T142719Z
UID:13086-1441440000-1441443600@algop.org
SUMMARY:Cullman County Party Breakfast
DESCRIPTION:Monthly breakfast for the Cullman County Party at ELKS Lodge. For more information\, please contact Kelly Duke at kellyduke1972@yahoo.com
URL:https://algop.org/event/cullman-county-party-breakfast-5/
END:VEVENT
BEGIN:VEVENT
DTSTART;TZID=America/Chicago:20150905T170000
DTEND;TZID=America/Chicago:20150905T190000
DTSTAMP:20260419T095540
CREATED:20150818T204936Z
LAST-MODIFIED:20150818T204936Z
UID:13470-1441472400-1441479600@algop.org
SUMMARY:Tuscaloosa YRs Host Congressman Dave Brat (R-VA)
DESCRIPTION:We are excited to announce the Keynote speaker at our “Legislator of the Year” event will be Virginia Congressman\, Dave Brat! \nLearn more about Congressman Brat here:\nhttps://brat.house.gov/about/full-biography \nVIP Tickets are $50.00\nGeneral Admission is $35.00\nIf you join our club as a member (18-40 years old) and pay your dues of $25.00\, you will get into the event for FREE! \nTIMES: \n5:00 pm – V.I.P. Meet and Greet\n6:00 pm – Keynote Address \n7:00 pm – TCYR After party\n***We will be watching the Alabama vs. Wisconsin Game. This is totally free to attend. \nBuy your tickets here:\nhttps://www.eventbrite.com/e/tcyrs-welcome-congressman-dave-brat-tickets-17803376378
URL:https://algop.org/event/tuscaloosa-yrs-host-congressman-dave-brat-r-va/
LOCATION:Hotel Capstone\, 320 Paul W Bryant Dr\, Tuscaloosa\, AL\, 35401\, United States
ATTACH;FMTTYPE=:
ORGANIZER;CN="Dalton%20Dismukes":MAILTO:TuscaloosaYRs@gmail.com
END:VEVENT
END:VCALENDAR