BEGIN:VCALENDAR
VERSION:2.0
PRODID:-//Alabama Republican Party - ECPv5.8.2//NONSGML v1.0//EN
CALSCALE:GREGORIAN
METHOD:PUBLISH
X-WR-CALNAME:Alabama Republican Party
X-ORIGINAL-URL:https://algop.org
X-WR-CALDESC:Events for Alabama Republican Party
BEGIN:VTIMEZONE
TZID:America/Chicago
BEGIN:DAYLIGHT
TZOFFSETFROM:-0600
TZOFFSETTO:-0500
TZNAME:CDT
DTSTART:20150308T080000
END:DAYLIGHT
BEGIN:STANDARD
TZOFFSETFROM:-0500
TZOFFSETTO:-0600
TZNAME:CST
DTSTART:20151101T070000
END:STANDARD
END:VTIMEZONE
BEGIN:VEVENT
DTSTART;TZID=America/Chicago:20150903T173000
DTEND;TZID=America/Chicago:20150903T190000
DTSTAMP:20260419T095540
CREATED:20150423T022418Z
LAST-MODIFIED:20150423T022418Z
UID:13184-1441301400-1441306800@algop.org
SUMMARY:Republican Womwn of Trussville monthly meeting
DESCRIPTION:ALGOP Chairwoman Terry Lathan is our Key Note Speaker
URL:https://algop.org/event/republican-womwn-of-trussville-monthly-meeting/
LOCATION:Sherry’s Cafe\, 5800 Valley Road #110\, Birmingham\, AL\, 35235\, United States
ORGANIZER;CN="Cheryl%20Mathews":MAILTO:cherylamathews@gmail.com
END:VEVENT
END:VCALENDAR