BEGIN:VCALENDAR
VERSION:2.0
PRODID:-//Alabama Republican Party - ECPv5.8.2//NONSGML v1.0//EN
CALSCALE:GREGORIAN
METHOD:PUBLISH
X-WR-CALNAME:Alabama Republican Party
X-ORIGINAL-URL:https://algop.org
X-WR-CALDESC:Events for Alabama Republican Party
BEGIN:VTIMEZONE
TZID:America/Chicago
BEGIN:DAYLIGHT
TZOFFSETFROM:-0600
TZOFFSETTO:-0500
TZNAME:CDT
DTSTART:20150308T080000
END:DAYLIGHT
BEGIN:STANDARD
TZOFFSETFROM:-0500
TZOFFSETTO:-0600
TZNAME:CST
DTSTART:20151101T070000
END:STANDARD
END:VTIMEZONE
BEGIN:VEVENT
DTSTART;TZID=America/Chicago:20150831T180000
DTEND;TZID=America/Chicago:20150831T190000
DTSTAMP:20260419T095420
CREATED:20150417T143045Z
LAST-MODIFIED:20150417T143045Z
UID:13094-1441044000-1441047600@algop.org
SUMMARY:Houston County Executive Committee Meeting
DESCRIPTION:Monthly meeting of the Houston County Executive Committee at the Houston County Commission Chambers. For more information\, please contact Valerie Judah at valjudah@gmail.com
URL:https://algop.org/event/houston-county-executive-committee-meeting-5/
END:VEVENT
END:VCALENDAR