BEGIN:VCALENDAR
VERSION:2.0
PRODID:-//Alabama Republican Party - ECPv5.8.2//NONSGML v1.0//EN
CALSCALE:GREGORIAN
METHOD:PUBLISH
X-WR-CALNAME:Alabama Republican Party
X-ORIGINAL-URL:https://algop.org
X-WR-CALDESC:Events for Alabama Republican Party
BEGIN:VTIMEZONE
TZID:America/Chicago
BEGIN:DAYLIGHT
TZOFFSETFROM:-0600
TZOFFSETTO:-0500
TZNAME:CDT
DTSTART:20150308T080000
END:DAYLIGHT
BEGIN:STANDARD
TZOFFSETFROM:-0500
TZOFFSETTO:-0600
TZNAME:CST
DTSTART:20151101T070000
END:STANDARD
END:VTIMEZONE
BEGIN:VEVENT
DTSTART;TZID=America/Chicago:20150825T080000
DTEND;TZID=America/Chicago:20150825T170000
DTSTAMP:20260419T095504
CREATED:20150825T195319Z
LAST-MODIFIED:20150825T195319Z
UID:13480-1440489600-1440522000@algop.org
SUMMARY:2015 Lincoln-Reagan Dinner
DESCRIPTION:The Montgomery County Republican Executive Committee will host their 2015 Lincoln-Reagan Dinner on Thursday\, November 5\, 2015. The keynote speaker will be Kris “Tanto” Paronto\, the co-author of 13 Hours: Inside Account of What Really Happened in Benghazi. \nDinner will be held at the Montgomery Country Club. \nVIP Reception at 6:00PM \nDinner at 7:00PM \nBook signing after the program \nTickets are $100\, order online here. View the Flyer for more information.
URL:https://algop.org/event/2015-lincoln-reagan-dinner/
END:VEVENT
BEGIN:VEVENT
DTSTART;TZID=America/Chicago:20150825T180000
DTEND;TZID=America/Chicago:20150825T190000
DTSTAMP:20260419T095504
CREATED:20150417T143825Z
LAST-MODIFIED:20150417T143825Z
UID:13111-1440525600-1440529200@algop.org
SUMMARY:Morgan County Executive Committee Meeting
DESCRIPTION:Monthly meeting of the Morgan County Executive Committee at JW’s Steakhouse in Priceville. For more information\, please contact Clay Marlow at gcmarlow@gmail.com
URL:https://algop.org/event/morgan-county-executive-committee-meeting-5/
END:VEVENT
END:VCALENDAR