BEGIN:VCALENDAR
VERSION:2.0
PRODID:-//Alabama Republican Party - ECPv5.8.2//NONSGML v1.0//EN
CALSCALE:GREGORIAN
METHOD:PUBLISH
X-WR-CALNAME:Alabama Republican Party
X-ORIGINAL-URL:https://algop.org
X-WR-CALDESC:Events for Alabama Republican Party
BEGIN:VTIMEZONE
TZID:America/Chicago
BEGIN:DAYLIGHT
TZOFFSETFROM:-0600
TZOFFSETTO:-0500
TZNAME:CDT
DTSTART:20150308T080000
END:DAYLIGHT
BEGIN:STANDARD
TZOFFSETFROM:-0500
TZOFFSETTO:-0600
TZNAME:CST
DTSTART:20151101T070000
END:STANDARD
END:VTIMEZONE
BEGIN:VEVENT
DTSTART;TZID=America/Chicago:20150818T173000
DTEND;TZID=America/Chicago:20150818T190000
DTSTAMP:20260419T095421
CREATED:20150417T150826Z
LAST-MODIFIED:20150417T150826Z
UID:13160-1439919000-1439924400@algop.org
SUMMARY:Jackson County Executive Committee Meeting
DESCRIPTION:Quarterly meeting of the Jackson County Executive Committee at Western Sizzlin in Scottsboro\, AL. Dinner at 5:30pm\, meeting at 6:00pm. For more information\, please contact Ellen O’Connor at efoc1004@gmail.com
URL:https://algop.org/event/jackson-county-executive-committee-meeting/
END:VEVENT
BEGIN:VEVENT
DTSTART;TZID=America/Chicago:20150818T180000
DTEND;TZID=America/Chicago:20150818T200000
DTSTAMP:20260419T095421
CREATED:20150417T141520Z
LAST-MODIFIED:20150417T141520Z
UID:13059-1439920800-1439928000@algop.org
SUMMARY:Fayette County Executive Committee Meeting
DESCRIPTION:Monthly dinner and meeting of the Fayette County Executive Committee. Dinner at 6:00pm and meeting at 7:00pm in the Guthrie Smith Room at Bevill State Community College. For more information\, please contact Joe Acker at jdacker@centurytel.net
URL:https://algop.org/event/fayette-county-executive-committee-meeting-5/
END:VEVENT
BEGIN:VEVENT
DTSTART;TZID=America/Chicago:20150818T180000
DTEND;TZID=America/Chicago:20150818T190000
DTSTAMP:20260419T095421
CREATED:20150417T144155Z
LAST-MODIFIED:20150417T144155Z
UID:13119-1439920800-1439924400@algop.org
SUMMARY:Limestone County Executive Committee Meeting
DESCRIPTION:Monthly meeting of the Limestone County Executive Committee at 306 BBQ in Athens\, AL. For more information\, please contact Noah Wahl at noah@wismentrading.com
URL:https://algop.org/event/limestone-county-executive-committee-meeting-5/
END:VEVENT
END:VCALENDAR