BEGIN:VCALENDAR
VERSION:2.0
PRODID:-//Alabama Republican Party - ECPv5.8.2//NONSGML v1.0//EN
CALSCALE:GREGORIAN
METHOD:PUBLISH
X-WR-CALNAME:Alabama Republican Party
X-ORIGINAL-URL:https://algop.org
X-WR-CALDESC:Events for Alabama Republican Party
BEGIN:VTIMEZONE
TZID:America/Chicago
BEGIN:DAYLIGHT
TZOFFSETFROM:-0600
TZOFFSETTO:-0500
TZNAME:CDT
DTSTART:20150308T080000
END:DAYLIGHT
BEGIN:STANDARD
TZOFFSETFROM:-0500
TZOFFSETTO:-0600
TZNAME:CST
DTSTART:20151101T070000
END:STANDARD
END:VTIMEZONE
BEGIN:VEVENT
DTSTART;TZID=America/Chicago:20150105T180000
DTEND;TZID=America/Chicago:20150105T203000
DTSTAMP:20260419T145430
CREATED:20141218T160955Z
LAST-MODIFIED:20141218T160955Z
UID:12520-1420480800-1420489800@algop.org
SUMMARY:Mobile County Republican Executive Committee
DESCRIPTION:2015 Winter Quarterly Meet and Greet Reception/light dinner honoring outgoing Legislators Jamie Ison\, Jim Barton and Chad Fincher.\n7:00 pm Business Meeting. The public is invited to attend both events.
URL:https://algop.org/event/mobile-county-republican-executive-committee/
LOCATION:Westminster Presbyterian Church\, Corner of Sage Ave and Airport Blvd\, Mobile\, AL\, United States
ATTACH;FMTTYPE=:
ORGANIZER;CN="Mobile%20County%20Republican%20Executive%20Committee":MAILTO:info@mobilegop.com
END:VEVENT
BEGIN:VEVENT
DTSTART;TZID=America/Chicago:20150105T183000
DTEND;TZID=America/Chicago:20150105T200000
DTSTAMP:20260419T145430
CREATED:20141218T160921Z
LAST-MODIFIED:20141218T160921Z
UID:12558-1420482600-1420488000@algop.org
SUMMARY:Republican Club of Central Alabama
DESCRIPTION:Monthly meeting; John Merrill\, speaker
URL:https://algop.org/event/republican-club-central-alabama/
LOCATION:Faulkner University Cafeteria\, Atlanta Hwy\, Montgomery\, \, AL\, United States
ORGANIZER;CN="Don%20Fisher":MAILTO:dfisher@knology.net
END:VEVENT
END:VCALENDAR