BEGIN:VCALENDAR
VERSION:2.0
PRODID:-//Alabama Republican Party - ECPv5.8.2//NONSGML v1.0//EN
CALSCALE:GREGORIAN
METHOD:PUBLISH
X-WR-CALNAME:Alabama Republican Party
X-ORIGINAL-URL:https://algop.org
X-WR-CALDESC:Events for Alabama Republican Party
BEGIN:VTIMEZONE
TZID:America/Chicago
BEGIN:DAYLIGHT
TZOFFSETFROM:-0600
TZOFFSETTO:-0500
TZNAME:CDT
DTSTART:20140309T080000
END:DAYLIGHT
BEGIN:STANDARD
TZOFFSETFROM:-0500
TZOFFSETTO:-0600
TZNAME:CST
DTSTART:20141102T070000
END:STANDARD
END:VTIMEZONE
BEGIN:VEVENT
DTSTART;TZID=America/Chicago:20141202T110000
DTEND;TZID=America/Chicago:20141202T123000
DTSTAMP:20260419T163711
CREATED:20141125T220345Z
LAST-MODIFIED:20141125T220345Z
UID:12495-1417518000-1417523400@algop.org
SUMMARY:Republican Women of Huntsville
DESCRIPTION:Monthly meeting with guest speaker Frances Taylor\, AFWR President
URL:https://algop.org/event/republican-women-huntsville/
LOCATION:The Ledges Club\, 32 Castledown Dr. \, Huntsville\, AL\, 35802\, United States
ORGANIZER;CN="Republican%20Women%20of%20Huntsville":MAILTO:lenvaught@gmail.com
END:VEVENT
BEGIN:VEVENT
DTSTART;TZID=America/Chicago:20141202T183000
DTEND;TZID=America/Chicago:20141202T200000
DTSTAMP:20260419T163711
CREATED:20141125T220211Z
LAST-MODIFIED:20141125T220211Z
UID:12514-1417545000-1417550400@algop.org
SUMMARY:Marshall County Republican Club Meeting
DESCRIPTION:Marshall County Republican Club will have a social meeting on December 2\, 2014\, at 6:30 p.m. at the Wintzell’s Restaurant in Guntersville.
URL:https://algop.org/event/marshall-county-republican-club-meeting/
LOCATION:Wintzell’s Oyster House – Guntersville\, 14455 US-431\, Guntersville\, AL\, 35976\, United States
END:VEVENT
END:VCALENDAR