BEGIN:VCALENDAR
VERSION:2.0
PRODID:-//Alabama Republican Party - ECPv5.8.2//NONSGML v1.0//EN
CALSCALE:GREGORIAN
METHOD:PUBLISH
X-WR-CALNAME:Alabama Republican Party
X-ORIGINAL-URL:https://algop.org
X-WR-CALDESC:Events for Alabama Republican Party
BEGIN:VTIMEZONE
TZID:America/Chicago
BEGIN:DAYLIGHT
TZOFFSETFROM:-0600
TZOFFSETTO:-0500
TZNAME:CDT
DTSTART:20140309T080000
END:DAYLIGHT
BEGIN:STANDARD
TZOFFSETFROM:-0500
TZOFFSETTO:-0600
TZNAME:CST
DTSTART:20141102T070000
END:STANDARD
END:VTIMEZONE
BEGIN:VEVENT
DTSTART;TZID=America/Chicago:20141030T073000
DTEND;TZID=America/Chicago:20141030T083000
DTSTAMP:20260419T181245
CREATED:20141001T195109Z
LAST-MODIFIED:20141001T195109Z
UID:12199-1414654200-1414657800@algop.org
SUMMARY:Rally the Vote Breakfast
DESCRIPTION:The public is invited to rally the vote with GOP legislators and candidates in a special prayer breakfast. Tickets and sponsorships are available by contacting MCREC Chairman Pat Wilson at 334-221-7454 or Event Chairman Fran Whitaker at 334-546-8736.
URL:https://algop.org/event/rally-vote-breakfast/
LOCATION:RSA Activity Center\, 201 Dexter Avenue\, Montgomery\, AL\, 36104\, United States
ATTACH;FMTTYPE=:
ORGANIZER;CN="Montgomery%20County%20Republican%20Executive%20Committee":MAILTO:mcrec2014@gmail.com
END:VEVENT
END:VCALENDAR