BEGIN:VCALENDAR
VERSION:2.0
PRODID:-//Alabama Republican Party - ECPv5.8.2//NONSGML v1.0//EN
CALSCALE:GREGORIAN
METHOD:PUBLISH
X-WR-CALNAME:Alabama Republican Party
X-ORIGINAL-URL:https://algop.org
X-WR-CALDESC:Events for Alabama Republican Party
BEGIN:VTIMEZONE
TZID:America/Chicago
BEGIN:DAYLIGHT
TZOFFSETFROM:-0600
TZOFFSETTO:-0500
TZNAME:CDT
DTSTART:20140309T080000
END:DAYLIGHT
BEGIN:STANDARD
TZOFFSETFROM:-0500
TZOFFSETTO:-0600
TZNAME:CST
DTSTART:20141102T070000
END:STANDARD
END:VTIMEZONE
BEGIN:VEVENT
DTSTART;TZID=America/Chicago:20141018T170000
DTEND;TZID=America/Chicago:20141018T210000
DTSTAMP:20260419T193628
CREATED:20141001T195129Z
LAST-MODIFIED:20141001T195129Z
UID:12220-1413651600-1413666000@algop.org
SUMMARY:An Evening with Our Candidates
DESCRIPTION:AG Luther Strange – Keynote Speaker\nCatfish/Chicken Dinner
URL:https://algop.org/event/evening-candidates/
LOCATION:Weogufka Center\, 145 Memorial Loop/County Rd 41\, Weogufka\, AL\, United States
ATTACH;FMTTYPE=:
END:VEVENT
BEGIN:VEVENT
DTSTART;TZID=America/Chicago:20141018T173000
DTEND;TZID=America/Chicago:20141018T200000
DTSTAMP:20260419T193628
CREATED:20141006T193615Z
LAST-MODIFIED:20141006T193615Z
UID:12241-1413653400-1413662400@algop.org
SUMMARY:Coosa County Republican Party Catfish/Chicken Dinner
DESCRIPTION:Join the Coosa County REpublican Party for a candidate meet and greet followed by dinner at the Weogufka Center in Weogufka\, AL. AG Luther Strange\, Representattive Mark Tuggle (HD81) and candidate Clyde Chambliss (SD30) will be in attendance.
URL:https://algop.org/event/coosa-county-republican-party-catfishchicken-dinner/
LOCATION:Weogufka Center\, 145 Memorial Loop/County Rd 41\, Weogufka\, AL\, United States
ATTACH;FMTTYPE=:
END:VEVENT
END:VCALENDAR