BEGIN:VCALENDAR
VERSION:2.0
PRODID:-//Alabama Republican Party - ECPv5.8.2//NONSGML v1.0//EN
CALSCALE:GREGORIAN
METHOD:PUBLISH
X-WR-CALNAME:Alabama Republican Party
X-ORIGINAL-URL:https://algop.org
X-WR-CALDESC:Events for Alabama Republican Party
BEGIN:VTIMEZONE
TZID:America/Chicago
BEGIN:DAYLIGHT
TZOFFSETFROM:-0600
TZOFFSETTO:-0500
TZNAME:CDT
DTSTART:20140309T080000
END:DAYLIGHT
BEGIN:STANDARD
TZOFFSETFROM:-0500
TZOFFSETTO:-0600
TZNAME:CST
DTSTART:20141102T070000
END:STANDARD
END:VTIMEZONE
BEGIN:VEVENT
DTSTART;TZID=America/Chicago:20141011T073000
DTEND;TZID=America/Chicago:20141011T083000
DTSTAMP:20260419T193730
CREATED:20141001T195152Z
LAST-MODIFIED:20141001T195152Z
UID:12085-1413012600-1413016200@algop.org
SUMMARY:DeKalb Republican Breakfast Club
DESCRIPTION:Monthly meeting. Speakers will be Sen Phil Williams\, Representative Becky Nordgren and other candidates.
URL:https://algop.org/event/dekalb-republican-breakfast-club-4/
LOCATION:Western Sizzlin Steak House\, 1114 Glenn Blvd SW\, Fort Payne\, AL\, 35967\, United States
ORGANIZER;CN="Jack%20Stiefel":MAILTO:stiefelj@farmerstel.com
END:VEVENT
END:VCALENDAR