BEGIN:VCALENDAR
VERSION:2.0
PRODID:-//Alabama Republican Party - ECPv5.8.2//NONSGML v1.0//EN
CALSCALE:GREGORIAN
METHOD:PUBLISH
X-WR-CALNAME:Alabama Republican Party
X-ORIGINAL-URL:https://algop.org
X-WR-CALDESC:Events for Alabama Republican Party
BEGIN:VTIMEZONE
TZID:America/Chicago
BEGIN:DAYLIGHT
TZOFFSETFROM:-0600
TZOFFSETTO:-0500
TZNAME:CDT
DTSTART:20140309T080000
END:DAYLIGHT
BEGIN:STANDARD
TZOFFSETFROM:-0500
TZOFFSETTO:-0600
TZNAME:CST
DTSTART:20141102T070000
END:STANDARD
END:VTIMEZONE
BEGIN:VEVENT
DTSTART;TZID=America/Chicago:20141006T173000
DTEND;TZID=America/Chicago:20141006T193000
DTSTAMP:20260419T193538
CREATED:20141001T195217Z
LAST-MODIFIED:20141001T195217Z
UID:12225-1412616600-1412623800@algop.org
SUMMARY:Republican Women of East Alabama
DESCRIPTION:Monthly Meeting
URL:https://algop.org/event/republican-women-east-alabama/
LOCATION:Logans Roadhouse\, Tiger Town\, OPELIKA\, AL\, 36801\, United States
END:VEVENT
BEGIN:VEVENT
DTSTART;TZID=America/Chicago:20141006T180000
DTEND;TZID=America/Chicago:20141006T200000
DTSTAMP:20260419T193538
CREATED:20141006T193713Z
LAST-MODIFIED:20141006T193713Z
UID:12228-1412618400-1412625600@algop.org
SUMMARY:Meet and Greet hosted by the Mobile Republican Executive Committee
DESCRIPTION:The Mobile Republican Executive Committee will hold its Fall 2014 Meeting on Monday\, October 6 at Westminster Presbyterian Church\, 2921 Airport Blvd. A “Meet and Greet” for State Lt. Governor Kay Ivey and U.S. Congressman Bradley Byrne will begin at 6:00 p.m. with a light dinner. The MCREC business meeting will begin at 7:00 p.m. The public is encouraged to attend.
URL:https://algop.org/event/meet-greet-hosted-mobile-republican-executive-committee/
LOCATION:Westminster Presbyterian Church\, 2921 Airport Blvd.\, Mobile\, AL\, United States
ORGANIZER;CN="Mobile%20County%20Republican%20Executive%20Committee":MAILTO:info@mobilegop.com
END:VEVENT
END:VCALENDAR