BEGIN:VCALENDAR
VERSION:2.0
PRODID:-//Alabama Republican Party - ECPv5.8.2//NONSGML v1.0//EN
CALSCALE:GREGORIAN
METHOD:PUBLISH
X-WR-CALNAME:Alabama Republican Party
X-ORIGINAL-URL:https://algop.org
X-WR-CALDESC:Events for Alabama Republican Party
BEGIN:VTIMEZONE
TZID:America/Chicago
BEGIN:DAYLIGHT
TZOFFSETFROM:-0600
TZOFFSETTO:-0500
TZNAME:CDT
DTSTART:20140309T080000
END:DAYLIGHT
BEGIN:STANDARD
TZOFFSETFROM:-0500
TZOFFSETTO:-0600
TZNAME:CST
DTSTART:20141102T070000
END:STANDARD
END:VTIMEZONE
BEGIN:VEVENT
DTSTART;TZID=America/Chicago:20140930T173000
DTEND;TZID=America/Chicago:20141004T210000
DTSTAMP:20260419T193909
CREATED:20141001T195603Z
LAST-MODIFIED:20141001T195603Z
UID:12230-1412098200-1412456400@algop.org
SUMMARY:Autauga Co. Fair
DESCRIPTION:Autauga CO. Republicans have a booth at the  Autauga Co. Fair. Starting Sept. 30th at 5PM till 8 or 9 PM. The hours Tues thru Friday is 5 till 8 or 9 PM depending on the attendance . Saturday the hours are noon till the crowds slow. We have several candidates that will be at the booth this week.We could use your help this week to support the candidates and pass out info on the coming election . If you could volunteer e-mail me or call 568-9081 autaugagop@gmail.com
URL:https://algop.org/event/autauga-co-fair/
END:VEVENT
BEGIN:VEVENT
DTSTART;TZID=America/Chicago:20141002T180000
DTEND;TZID=America/Chicago:20141002T190000
DTSTAMP:20260419T193909
CREATED:20140827T163706Z
LAST-MODIFIED:20140827T163706Z
UID:11997-1412272800-1412276400@algop.org
SUMMARY:The Republican Women of Trussville Regular Monthly Meeting
DESCRIPTION:Key Note Speaker : Al. State House Rep. elect Danny Garrett
URL:https://algop.org/event/republican-women-trussville-regular-monthly-meeting-2/
LOCATION:The Grayson Valley Country Club\, 2201 Grayson Valley Dr.\, B'ham.\, AL\, 35235\, United States
END:VEVENT
END:VCALENDAR