BEGIN:VCALENDAR
VERSION:2.0
PRODID:-//Alabama Republican Party - ECPv5.8.2//NONSGML v1.0//EN
CALSCALE:GREGORIAN
METHOD:PUBLISH
X-WR-CALNAME:Alabama Republican Party
X-ORIGINAL-URL:https://algop.org
X-WR-CALDESC:Events for Alabama Republican Party
BEGIN:VTIMEZONE
TZID:America/Chicago
BEGIN:DAYLIGHT
TZOFFSETFROM:-0600
TZOFFSETTO:-0500
TZNAME:CDT
DTSTART:20140309T080000
END:DAYLIGHT
BEGIN:STANDARD
TZOFFSETFROM:-0500
TZOFFSETTO:-0600
TZNAME:CST
DTSTART:20141102T070000
END:STANDARD
END:VTIMEZONE
BEGIN:VEVENT
DTSTART;TZID=America/Chicago:20140923T170000
DTEND;TZID=America/Chicago:20140923T200000
DTSTAMP:20260419T211759
CREATED:20141001T195238Z
LAST-MODIFIED:20141001T195238Z
UID:12074-1411491600-1411502400@algop.org
SUMMARY:2014 Madison County Republican Executive Committee BBQ
DESCRIPTION:The 2014 Republican BBQ will be held at the Jaycees Building off Airport Rd. Local and statewide candidates will be in attendance and address the audience. BBQ chicken and all the fixings will be served by Sheriff Blake Dorning. There will be live entertainment and a special door prize. IT IS ALL FREE!
URL:https://algop.org/event/2014-madison-county-republican-executive-committee-bbq/
LOCATION:The Jaycees Bldg.\, 2180 Airport Rd.\, Huntsville\, AL\, 35801\, United States
END:VEVENT
END:VCALENDAR