BEGIN:VCALENDAR
VERSION:2.0
PRODID:-//Alabama Republican Party - ECPv5.8.2//NONSGML v1.0//EN
CALSCALE:GREGORIAN
METHOD:PUBLISH
X-WR-CALNAME:Alabama Republican Party
X-ORIGINAL-URL:https://algop.org
X-WR-CALDESC:Events for Alabama Republican Party
BEGIN:VTIMEZONE
TZID:America/Chicago
BEGIN:DAYLIGHT
TZOFFSETFROM:-0600
TZOFFSETTO:-0500
TZNAME:CDT
DTSTART:20140309T080000
END:DAYLIGHT
BEGIN:STANDARD
TZOFFSETFROM:-0500
TZOFFSETTO:-0600
TZNAME:CST
DTSTART:20141102T070000
END:STANDARD
END:VTIMEZONE
BEGIN:VEVENT
DTSTART;TZID=America/Chicago:20140918T180000
DTEND;TZID=America/Chicago:20140918T200000
DTSTAMP:20260419T211800
CREATED:20140513T173805Z
LAST-MODIFIED:20140513T173805Z
UID:11284-1411063200-1411070400@algop.org
SUMMARY:Autauga Co. Republican Executive Board
DESCRIPTION:Autauga Executive Board meets at St. Joseph’s Parish\nThursdays at 6PM. 511 N. Memorial Dr. Prattville\, AL\nFor more information\, contact autaugagop@gmail.com
URL:https://algop.org/event/autauga-co-republican-executive-board-5/
LOCATION:St. Joseph’s Parish\,  511 N. Memorial Dr\, Prattville\, AL\, United States
ORGANIZER;CN="Autauga%20Executive%20Board":MAILTO:autaugagop@gmail.com
END:VEVENT
END:VCALENDAR