BEGIN:VCALENDAR
VERSION:2.0
PRODID:-//Alabama Republican Party - ECPv5.8.2//NONSGML v1.0//EN
CALSCALE:GREGORIAN
METHOD:PUBLISH
X-WR-CALNAME:Alabama Republican Party
X-ORIGINAL-URL:https://algop.org
X-WR-CALDESC:Events for Alabama Republican Party
BEGIN:VTIMEZONE
TZID:America/Chicago
BEGIN:DAYLIGHT
TZOFFSETFROM:-0600
TZOFFSETTO:-0500
TZNAME:CDT
DTSTART:20140309T080000
END:DAYLIGHT
BEGIN:STANDARD
TZOFFSETFROM:-0500
TZOFFSETTO:-0600
TZNAME:CST
DTSTART:20141102T070000
END:STANDARD
END:VTIMEZONE
BEGIN:VEVENT
DTSTART;TZID=America/Chicago:20140915T190000
DTEND;TZID=America/Chicago:20140915T203000
DTSTAMP:20260419T211754
CREATED:20140908T202750Z
LAST-MODIFIED:20140908T202750Z
UID:12050-1410807600-1410813000@algop.org
SUMMARY:Madison County Republican Executive Committee Regular Meeting
DESCRIPTION:The regular meeting of the Madison County Republican Executive Committee is scheduled for Monday\, September 15 at 7:00 pm at the Madison County Republican Headquarters\, 806 Governors Drive\, Suite 201\, Huntsville\, AL 35801. For more information\, please contact Chairman Sam Givhan at 256-426-7010 or sgivhan@wilmerlee.com
URL:https://algop.org/event/madison-county-republican-executive-committee-regular-meeting/
LOCATION:Madison County Republican Headquarters\, 2801 Memorial Parkway S.\, Huntsville\, AL\, 35801\, United States
ORGANIZER;CN="Chairman%20Sam%20Givhan":MAILTO:sgivhan@wilmerlee.com
END:VEVENT
END:VCALENDAR