BEGIN:VCALENDAR
VERSION:2.0
PRODID:-//Alabama Republican Party - ECPv5.8.2//NONSGML v1.0//EN
CALSCALE:GREGORIAN
METHOD:PUBLISH
X-WR-CALNAME:Alabama Republican Party
X-ORIGINAL-URL:https://algop.org
X-WR-CALDESC:Events for Alabama Republican Party
BEGIN:VTIMEZONE
TZID:America/Chicago
BEGIN:DAYLIGHT
TZOFFSETFROM:-0600
TZOFFSETTO:-0500
TZNAME:CDT
DTSTART:20140309T080000
END:DAYLIGHT
BEGIN:STANDARD
TZOFFSETFROM:-0500
TZOFFSETTO:-0600
TZNAME:CST
DTSTART:20141102T070000
END:STANDARD
END:VTIMEZONE
BEGIN:VEVENT
DTSTART;TZID=America/Chicago:20140908T173000
DTEND;TZID=America/Chicago:20140908T190000
DTSTAMP:20260419T211630
CREATED:20140820T174219Z
LAST-MODIFIED:20140820T174219Z
UID:11928-1410197400-1410202800@algop.org
SUMMARY:Cherokee County Republican Party Annual Dinner
DESCRIPTION:Keynote speaker is Governor Robert Bentley. Senator Gerald Dial and Senator Phil Williams will also speak as will local Republican candidates.
URL:https://algop.org/event/cherokee-county-republican-party-annual-dinner/
LOCATION:Cherokee County Chamber of Commerce\, 801 Cedar Bluff Road\, Centre\, AL\, 35960\, United States
ORGANIZER;CN="Linda%20Pickelsimer":MAILTO:aandggutters@tds.net
END:VEVENT
BEGIN:VEVENT
DTSTART;TZID=America/Chicago:20140908T183000
DTEND;TZID=America/Chicago:20140908T200000
DTSTAMP:20260419T211630
CREATED:20140827T160609Z
LAST-MODIFIED:20140827T160609Z
UID:11954-1410201000-1410206400@algop.org
SUMMARY:Republican Party of Central Alabama (RCCA)
DESCRIPTION:Monthly Meeting\nSpeaker: Kim Thomas\, Commissioner\, Alabama Department of Corrections
URL:https://algop.org/event/republican-party-central-alabama-rcca/
LOCATION:Faulkner University\, 5345 Atlanta Highway\, Montgomery\, AL\, 36109\, United States
ORGANIZER;CN="Don%20Fisher":MAILTO:dfisher@knology.net
END:VEVENT
END:VCALENDAR