BEGIN:VCALENDAR
VERSION:2.0
PRODID:-//Alabama Republican Party - ECPv5.8.2//NONSGML v1.0//EN
CALSCALE:GREGORIAN
METHOD:PUBLISH
X-WR-CALNAME:Alabama Republican Party
X-ORIGINAL-URL:https://algop.org
X-WR-CALDESC:Events for Alabama Republican Party
BEGIN:VTIMEZONE
TZID:America/Chicago
BEGIN:DAYLIGHT
TZOFFSETFROM:-0600
TZOFFSETTO:-0500
TZNAME:CDT
DTSTART:20140309T080000
END:DAYLIGHT
BEGIN:STANDARD
TZOFFSETFROM:-0500
TZOFFSETTO:-0600
TZNAME:CST
DTSTART:20141102T070000
END:STANDARD
END:VTIMEZONE
BEGIN:VEVENT
DTSTART;TZID=America/Chicago:20140717T113000
DTEND;TZID=America/Chicago:20140717T133000
DTSTAMP:20260420T002307
CREATED:20140711T150440Z
LAST-MODIFIED:20140711T150440Z
UID:11672-1405596600-1405603800@algop.org
SUMMARY:Republican Women of Tuscaloosa July Rally Time
DESCRIPTION:Old Fashioned Rally for November candidates–Open Mike –Hot dogs and hamburgers–All candidates invited
URL:https://algop.org/event/republican-women-tuscaloosa-july-rally-time/
LOCATION:Tuscaloosa County Extension Auditorium\, 2513 7th Street\, Tuscaloosa\, AL\, 35401\, United States
ORGANIZER;CN="Jackie%20Ray":MAILTO:rsskirk@aol.com
END:VEVENT
BEGIN:VEVENT
DTSTART;TZID=America/Chicago:20140717T170000
DTEND;TZID=America/Chicago:20140717T190000
DTSTAMP:20260420T002307
CREATED:20140711T150413Z
LAST-MODIFIED:20240812T180545Z
UID:11678-1405616400-1405623600@algop.org
SUMMARY:Madison County Republican Headquarters Grand Opening!
DESCRIPTION:The Grand Opening of the Madison County Republican Headquarters will take place on Thursday\, July 17 from 5:00 pm to 7:00 pm at 806 Governors Drive\, Suite 201\, Huntsville\, AL 35801. For more information\, please contact Kathy Linden at lindenk@juno.com or 256-881-2818.
URL:https://algop.org/event/madison-county-republican-headquarters-grand-opening/
LOCATION:AL
ORGANIZER;CN="Kathy%20Linden":MAILTO:lindenk@juno.com
END:VEVENT
BEGIN:VEVENT
DTSTART;TZID=America/Chicago:20140717T180000
DTEND;TZID=America/Chicago:20140717T200000
DTSTAMP:20260420T002307
CREATED:20140513T173639Z
LAST-MODIFIED:20140513T173639Z
UID:11282-1405620000-1405627200@algop.org
SUMMARY:Autauga Co. Republican Executive Board
DESCRIPTION:Autauga Executive Board meets at St. Joseph’s Parish\nThursdays at 6PM. 511 N. Memorial Dr. Prattville\, AL\nFor more information\, contact autaugagop@gmail.com
URL:https://algop.org/event/autauga-co-republican-executive-board-3/
LOCATION:St. Joseph’s Parish\,  511 N. Memorial Dr\, Prattville\, AL\, United States
ORGANIZER;CN="Autauga%20Executive%20Board":MAILTO:autaugagop@gmail.com
END:VEVENT
END:VCALENDAR